{"text_format":"1","workbook":"xlsx","n_sheets":5,"sheets":["はじめに","現状シート","検討シート（目標年度1）","検討シート（目標年度2）","まとめシート"],"not_rendered":{"charts":5,"images":2,"macros":1,"external_links":0,"defined_names":10,"comments":0,"pivot_tables":0},"unopened":[],"bounds":{"document_bytes":16777216,"sheet_cells":100000,"rows_first":2000,"rows_last":500,"rows_between":2000,"halvings":0,"cell_chars":16384,"cell_head_chars":4096},"cells_cut":0,"cells_raw":0,"read":"whole","date_system":"1900"}

{"sheet":"はじめに","index":0,"n_rows":67,"n_cols":12,"rows_kept":67,"cut":false,"hidden":false,"merged":[[66,11,66,14],[52,3,52,13],[53,3,57,13],[58,3,58,13],[21,3,28,13],[30,3,51,13],[29,3,29,13],[65,11,65,14],[10,3,12,13],[14,3,14,13],[15,3,16,13],[17,3,17,13],[20,3,20,13],[18,3,19,13],[1,2,1,11],[1,12,2,14],[2,8,2,10],[6,3,7,13],[9,3,9,13]]}
[]
[null,null,"■再エネ目標設定支援ツール　　はじめに"]
[null,null,null,"都道府県コード",{"$f":"現状シート!E3","v":0},"都道府県名",{"$f":"現状シート!G3","v":0},null,"※自治体再エネ情報カルテ引用値"]
[null,null,null,"市町村コード",{"$f":"現状シート!E4","v":0},"市町村名",{"$f":"現状シート!G4","v":0}]
[]
[]
[null,null,null,"はじめに"]
[]
[]
[null,null,null,"■再エネ目標設定支援ツールについて"]
[null,null,null,"　本ツールは、地方公共団体等が行政計画等の策定に際して行う再生可能エネルギーの導入目標設定を支援するツールです。\n　各種条件を設定した上で、再生可能エネルギーの導入見込み量（設備容量）を入力することで、導入目標を検討することができます。"]
[]
[]
[]
[null,null,null,"■ツールの構成"]
[null,null,null,"　本ツールは、「はじめに」、「現状シート」、「検討シート（目標年度1、目標年度2）」、「まとめシート」の4種類のシートで構成されています。各シートの概要と使い方は以下のとおりです。"]
[]
[null,null,null,"　□はじめに"]
[null,null,null,"　　・本シートです。本ツールの概要を説明しています。"]
[]
[null,null,null,"　□現状シート"]
[null,null,null,"　　・対象とする地方公共団体の現状を把握するためのシートです。\n　　・現状の電気使用量や導入ポテンシャル、二酸化炭素排出量等を掲載しています。\n　　・掲載している情報は、REPOSからダウンロード可能な「自治体再エネ情報カルテ」と同じく、「自治体排出量カルテ」（環境省）及びREPOS搭載情報に基づきます。\n　　・再エネ導入実績は、ユーザーの設定（入力）が必要となります。設定欄【設定1】に「設備容量」を入力することで、シートに反映されます。\n　　　（※発電電力量は、「検討シート（目標年度1）」で設定する設備利用率によって自動的に計算されます。）\n　　・「現状①」～「現状⑦」により、貴団体の再生可能エネルギー及び再生可能エネルギー導入ポテンシャルの特徴をご確認ください。"]
[]
[]
[]
[]
[]
[]
[]
[null,null,null,"　□検討シート（目標年度1、目標年度2）"]
[null,null,null,"　　・再生可能エネルギーに係る目標を設定する任意の年度における、「再生可能エネルギーの導入量」（導入目標量）を検討するシートです。\n　　・複数年度の検討にも対応できるよう、「検討シート（目標年度1）」と「検討シート（目標年度2）」の2種類を用意しています。\n　　・【設定２－１】～【設定２－１１】がユーザーの設定（入力）が必要な項目となります。\n　　・目標検討のための前提条件（目標年度、目標年度の電気使用量等）や想定する「導入見込み量」を設定した上で、各種参考指標を確認しながら、目標年度の導入量や再エネ比率等を検討することができます。\n\n　　・設定する「導入見込み量」は以下の3種類が想定されます。それぞれ、設定欄【設定２－６】～設定欄【設定２－８】に導入を見込む「設備容量」を入力することで、エネルギー種ごとの合計値がシートに反映されます。\n　　　【導入見込み量】\n　　　　・導入見込み量①既存計画により見込まれる導入量\n　　　　・導入見込み量②促進区域の設定等により見込まれる導入量\n　　　　・導入見込み量③上記以外により見込まれる導入量\n　　　　※導入見込み量②については、「促進区域検討支援ツール」で検討した結果を入力することも想定されます。\n\n　　・加えて、以下の3種類の参考指標を確認しながら、導入見込み量を足し引き等することで、再生可能エネルギーに係る目標として設定する値を検討することを想定しています。\n　　　【参考指標】\n　　　　・参考指標1　「目標年度の電気使用量」に基づく目標値　　：目標とする再エネ導入量の比率、年間発電電力量\n　　　　・参考指標2　「現状の導入ポテンシャル」に基づく目標値　 ：目標とする再エネ導入量の比率、年間発電電力量\n　　　　・参考指標3　二酸化炭素削減率に基づく目標値（参考）　　：目標とする二酸化炭素削減率、年間二酸化炭素削減量\n"]
[]
[]
[]
[]
[]
[]
[]
[]
[]
[]
[]
[]
[]
[]
[]
[]
[]
[]
[]
[]
[]
[null,null,null,"　□まとめシート"]
[null,null,null,"　　・現状値及び検討結果を整理して確認するためのシートです。\n　　・現状値として「現状シート」の値が、検討結果として「検討シート（目標年度1、目標年度2）」の入力値が、自動的に反映されるように設定されています。\n"]
[]
[]
[]
[]
[null,null,null,"■参考"]
[null,null,null,"　　・本ツールの詳細な使い方については、右のリンク（○利用解説書）をご参照ください。",null,null,null,"○利用解説書"]
[]
[null,null,null,"　　・各種情報の出典や集計年については右のリンク（○出典情報）をご参照ください。",null,null,null,"○出典等情報"]
[]
[]
[]
[null,null,null,null,null,null,null,null,null,null,null,"Ver.2(2023年4月1日)"]
[null,null,null,null,null,null,null,null,null,null,null,"はじめに：P1"]

{"sheet":"現状シート","index":1,"n_rows":193,"n_cols":21,"rows_kept":193,"cut":false,"hidden":false,"merged":[[112,8,112,13],[113,8,113,13],[114,8,114,13],[103,8,103,13],[104,8,104,13],[105,8,105,13],[2,8,2,10],[3,8,3,10],[1,12,2,14],[1,2,1,11],[32,3,39,3],[57,3,61,6],[6,3,7,13],[22,3,23,3],[24,3,25,3],[28,3,30,3],[9,8,31,13],[58,8,59,13],[32,8,33,13],[34,8,57,13],[65,3,66,13],[53,4,55,6],[53,3,55,3],[12,3,20,3],[41,3,43,5],[42,6,43,6],[45,3,47,5],[49,3,51,5],[46,6,47,6],[50,6,51,6],[63,11,63,14],[18,17,18,20],[9,3,10,5],[19,18,19,20],[129,17,129,26],[60,8,61,13],[65,17,65,26],[92,8,92,13],[93,4,93,5],[93,8,93,13],[97,8,97,13],[106,8,106,13],[107,8,107,13],[108,8,108,13],[109,4,109,5],[129,3,130,13],[75,8,75,13],[76,8,76,13],[77,8,77,13],[79,8,79,13],[80,8,80,13],[98,8,98,13],[90,8,90,13],[91,8,91,13],[99,8,99,13],[115,3,116,3],[123,3,124,3],[71,3,74,3],[87,3,90,3],[95,3,98,3],[103,3,106,3],[111,3,114,3],[119,3,122,3],[75,3,76,3],[83,3,84,3],[91,3,92,3],[99,3,100,3],[107,3,108,3],[127,11,127,14],[192,11,192,14],[101,4,101,5],[101,8,101,13],[96,8,96,13],[95,8,95,13],[89,8,89,13],[88,8,88,13],[87,8,87,13],[125,4,125,5],[125,8,125,13],[120,8,120,13],[121,8,121,13],[122,8,122,13],[123,8,123,13],[124,8,124,13],[115,8,115,13],[116,8,116,13],[117,4,117,5],[117,8,117,13],[119,8,119,13],[109,8,109,13],[100,8,100,13],[111,8,111,13],[72,8,72,13],[71,8,71,13],[67,3,69,13],[85,4,85,5],[85,8,85,13],[84,8,84,13],[83,8,83,13],[82,8,82,13],[81,8,81,13],[77,4,77,5],[74,8,74,13],[73,8,73,13],[79,3,81,3]]}
[]
[null,null,"■再エネ目標設定支援ツール　　現状シート"]
[null,null,null,"都道府県コード",null,"都道府県名",null,null,"※自治体再エネ情報カルテ引用値"]
[null,null,null,"市町村コード",null,"市町村名",null,null,"※ユーザー設定セル"]
[]
[]
[null,null,null,"１．現況の把握"]
[]
[]
[null,null,null,"現状①現状の電気使用量",null,null,"電気使用量（MWｈ/年）"]
[]
[null,null,null,null,null,null,null,null,null,null,null,null,null,null,null,null,null,"図１－１"]
[null,null,null,"現状②現状の導入ポテンシャル","再エネ区分","設備容量（MW)","年間発電電力量（MWh/年)",null,null,null,null,null,null,null,null,null,null,null,"現状の電気使用量","導入ポテンシャル（合計）","現状の再エネ導入実績（合計）"]
[null,null,null,null,"太陽光（建物系）",null,null,null,null,null,null,null,null,null,null,null,null,null,{"$f":"G11","v":0},{"$f":"G21","v":0},{"$f":"G31","v":0}]
[null,null,null,null,"太陽光（土地系）"]
[null,null,null,null,"陸上風力"]
[null,null,null,null,"洋上風力","-","-"]
[null,null,null,null,"中小水力"]
[null,null,null,null,"バイオマス","-","-"]
[null,null,null,null,"地熱"]
[null,null,null,null,"合計",{"$f":"SUM(F14:F20)","v":0},{"$f":"SUM(G14:G20)","v":0}]
[]
[null,null,null,"現状③現状の再エネ導入実績","再エネ区分","設備容量（MW)","年間発電電力量（MWh/年)"]
[null,null,null,null,"太陽光（建物系）",{"$f":"G78","v":0},{"$f":"IFERROR(F24*'検討シート（目標年度1）'!I13*8760,\"\")","v":0}]
[null,null,null,"【設定１】（→設定欄に移動）","太陽光（土地系）",{"$f":"G86","v":0},{"$f":"IFERROR(F25*'検討シート（目標年度1）'!I14*8760,\"\")","v":0}]
[null,null,null,null,"陸上風力",{"$f":"G94","v":0},{"$f":"IFERROR(F26*'検討シート（目標年度1）'!I15*8760,\"\")","v":0}]
[null,null,null,"※【設定１】をクリックすると設定欄に移動します。","洋上風力",{"$f":"G102","v":0},{"$f":"IFERROR(F27*'検討シート（目標年度1）'!I16*8760,\"\")","v":0}]
[null,null,null,"※設定欄に入力した設備容量が右表とグラフに反映されます。","中小水力",{"$f":"G110","v":0},{"$f":"IFERROR(F28*'検討シート（目標年度1）'!I17*8760,\"\")","v":0}]
[null,null,null,"※年間発電電力量は設定した値と「検討シート　設定④設備利用率」に基づいて自動的に計算されます。","バイオマス",{"$f":"G118","v":0},{"$f":"IFERROR(F29*'検討シート（目標年度1）'!I18*8760,\"\")","v":0}]
[null,null,null,null,"地熱",{"$f":"G126","v":0},{"$f":"IFERROR(F30*'検討シート（目標年度1）'!I19*8760,\"\")","v":0}]
[null,null,null,null,"合計",{"$f":"SUM(F24:F30)","v":0},{"$f":"IFERROR(SUM(G24:G30),\"\")","v":0}]
[]
[null,null,null,"（参考）\nFIT制度公表情報による再エネ導入実績\n","再エネ区分","設備容量（MW)","年間発電電力量（MWh/年)",null,"図１－１　年間発電電力量の比較\n（現状の電気使用量、導入ポテンシャル（合計）、現状の再エネ導入実績（合計））"]
[null,null,null,null,"太陽光（10kW未満）"]
[null,null,null,null,"太陽光（10kW以上）"]
[null,null,null,null,"風力"]
[null,null,null,null,"水力"]
[null,null,null,null,"バイオマス"]
[null,null,null,null,"地熱"]
[null,null,null,null,"合計",{"$f":"SUM(F34:F39)","v":0},{"$f":"SUM(G34:G39)","v":0}]
[null,null,null,null,null,null,null,null,null,null,null,null,null,null,null,null,null,"図１－２"]
[null,null,null,"現状④現状の二酸化炭素排出量",null,null,"二酸化炭素排出量（千t/年）",null,null,null,null,null,null,null,null,null,null,null,"導入ポテンシャル","現状の再エネ導入実績"]
[null,null,null,null,null,null,null,null,null,null,null,null,null,null,null,null,null,"太陽光（建物系）",{"$f":"F14","v":0},{"$f":"F24","v":0}]
[null,null,null,null,null,null,null,null,null,null,null,null,null,null,null,null,null,"太陽光（土地系）",0,{"$f":"F25","v":0}]
[null,null,null,null,null,null,null,null,null,null,null,null,null,null,null,null,null,"陸上風力",0,0]
[null,null,null,"現状⑤「現状の電気使用量」に対する「現状の再エネ導入実績」の比率\n（=現状③÷現状①）",null,null,"比率（%）",null,null,null,null,null,null,null,null,null,null,"洋上風力","-",0]
[null,null,null,null,null,null,{"$f":"G31/G11","v":{"$error":"#DIV/0!"}},null,null,null,null,null,null,null,null,null,null,"中小水力",0,0]
[null,null,null,null,null,null,null,null,null,null,null,null,null,null,null,null,null,"バイオマス","-",0]
[null,null,null,null,null,null,null,null,null,null,null,null,null,null,null,null,null,"地熱",0,0]
[null,null,null,"現状⑥「現状の導入ポテンシャル」に対する「現状の再エネ導入実績」の比率\n（=現状③÷現状②）",null,null,"比率（%）"]
[null,null,null,null,null,null,{"$f":"G31/G21","v":{"$error":"#DIV/0!"}}]
[]
[]
[null,null,null,"現状⑦貴団体の再エネの特徴",{"$f":"IF(G11>G21,\"現状の電気使用量が再生可能エネルギーの導入ポテンシャルを上回っています。\",\"再生可能エネルギーの導入ポテンシャルが現状の電気使用量を上回っています。\")","v":"再生可能エネルギーの導入ポテンシャルが現状の電気使用量を上回っています。"}]
[]
[]
[]
[null,null,null,"■備考\n・区域の電気使用量、FIT制度公開情報による再エネ導入実績、二酸化炭素排出量は「自治体排出量カルテ」（環境省）に基づきます。\n・導入ポテンシャルはREPOS搭載情報に基づきます。導入ポテンシャルの推計手法の詳細については、利用解説書や\n　REPOSウェブサイトの報告書をご確認ください。\n・「―」は推計対象外あるいは数値がないことを示しています。"]
[]
[]
[null,null,null,null,null,null,null,null,"図１－２　設備容量（エネルギー種別）の比較\n（導入ポテンシャル、現状の再エネ導入実績）"]
[]
[]
[null,null,null,null,null,null,null,null,null,null,null,"現状シート：P1"]
[]
[null,null,null,"設定欄【設定１】　現状の再エネ導入実績"]
[]
[null,null,null,"・エネルギー種別に、現状の再エネ導入実績の「設備容量」を「MW単位」で入力ください。「（参考）FIT制度公表情報による再エネ導入実績」を参考に入力したり、個別に把握されている実績等を入力することが想定されます。行が足りない場合は、適宜追加してください。\n・入力された設備容量は、エネルギー種別の合計値が、「現状シート：P1　現状③現状の再エネ導入実績」の「設備容量」欄に反映されます。\n・「年間発電電力量」は、「現状シート：P1　現状③現状の再エネ導入実績」には反映されません。情報をお持ちの場合に参考値として入力いただくことを想定しています。"]
[]
[]
[]
[null,null,null,"太陽光（建物系）","ID","名称","設備容量（MW)","年間発電電力量（MWh/年)","備考"]
[null,null,null,null,1]
[null,null,null,null,2]
[null,null,null,null,3]
[null,null,null,"【戻る】",4]
[null,null,null,null,5]
[null,null,null,"※【戻る】をクリックすると「現状シート：P1」に戻ります。","合計",null,{"$f":"SUM(G73:G77)","v":0},{"$f":"SUM(H73:H77)","v":0}]
[]
[null,null,null,"太陽光（土地系）","ID","名称","設備容量（MW)","年間発電電力量（MWh/年)","備考"]
[null,null,null,null,1]
[null,null,null,null,2]
[null,null,null,null,3]
[null,null,null,"【戻る】",4]
[null,null,null,null,5]
[null,null,null,"※【戻る】をクリックすると「現状シート：P1」に戻ります。","合計",null,{"$f":"SUM(G81:G85)","v":0},{"$f":"SUM(H81:H85)","v":0}]
[]
[null,null,null,"陸上風力","ID","名称","設備容量（MW)","年間発電電力量（MWh/年)","備考"]
[null,null,null,null,1]
[null,null,null,null,2]
[null,null,null,null,3]
[null,null,null,"【戻る】",4]
[null,null,null,null,5]
[null,null,null,"※【戻る】をクリックすると「現状シート：P1」に戻ります。","合計",null,{"$f":"SUM(G89:G93)","v":0},{"$f":"SUM(H89:H93)","v":0}]
[]
[null,null,null,"洋上風力","ID","名称","設備容量（MW)","年間発電電力量（MWh/年)","備考"]
[null,null,null,null,1]
[null,null,null,null,2]
[null,null,null,null,3]
[null,null,null,"【戻る】",4]
[null,null,null,null,5]
[null,null,null,"※【戻る】をクリックすると「現状シート：P1」に戻ります。","合計",null,{"$f":"SUM(G97:G101)","v":0},{"$f":"SUM(H97:H101)","v":0}]
[]
[null,null,null,"中小水力","ID","名称","設備容量（MW)","年間発電電力量（MWh/年)","備考"]
[null,null,null,null,1]
[null,null,null,null,2]
[null,null,null,null,3]
[null,null,null,"【戻る】",4]
[null,null,null,null,5]
[null,null,null,"※【戻る】をクリックすると「現状シート：P1」に戻ります。","合計",null,{"$f":"SUM(G105:G109)","v":0},{"$f":"SUM(H105:H109)","v":0}]
[]
[null,null,null,"バイオマス","ID","名称","設備容量（MW)","年間発電電力量（MWh/年)","備考"]
[null,null,null,null,1]
[null,null,null,null,2]
[null,null,null,null,3]
[null,null,null,"【戻る】",4]
[null,null,null,null,5]
[null,null,null,"※【戻る】をクリックすると「現状シート：P1」に戻ります。","合計",null,{"$f":"SUM(G113:G117)","v":0},{"$f":"SUM(H113:H117)","v":0}]
[]
[null,null,null,"地熱","ID","名称","設備容量（MW)","年間発電電力量（MWh/年)","備考"]
[null,null,null,null,1]
[null,null,null,null,2]
[null,null,null,null,3]
[null,null,null,"【戻る】",4]
[null,null,null,null,5]
[null,null,null,"※【戻る】をクリックすると「現状シート：P1」に戻ります。","合計",null,{"$f":"SUM(G121:G125)","v":0},{"$f":"SUM(H121:H125)","v":0}]
[]
[null,null,null,null,null,null,null,null,null,null,null,"現状シート：P2"]
[]
[null,null,null,"メモ欄"]
[]
[null,null,null,"・「現状シート：P2」に入力した再エネ導入実績の関連情報を記録するなど、必要に応じてご利用ください。"]
[]
[]
[]
[]
[]
[]
[]
[]
[]
[]
[]
[]
[]
[]
[]
[]
[]
[]
[]
[]
[]
[]
[]
[]
[]
[]
[]
[]
[]
[]
[]
[]
[]
[]
[]
[]
[]
[]
[]
[]
[]
[]
[]
[]
[]
[]
[]
[]
[]
[]
[]
[]
[]
[]
[]
[]
[]
[]
[]
[]
[null,null,null,null,null,null,null,null,null,null,null,"現状シート：P3"]

{"sheet":"検討シート（目標年度1）","index":2,"n_rows":389,"n_cols":22,"rows_kept":389,"cut":false,"hidden":false,"merged":[[195,11,195,14],[259,11,259,14],[323,11,323,14],[388,11,388,14],[6,3,7,13],[9,3,9,13],[1,2,1,11],[1,12,2,14],[2,8,2,10],[3,8,3,10],[11,3,13,4],[11,6,19,6],[11,8,11,9],[12,5,13,5],[12,8,12,9],[13,8,13,9],[14,3,16,4],[14,8,14,9],[15,5,16,5],[15,8,15,9],[16,8,16,9],[12,12,13,13],[14,12,19,13],[11,10,19,11],[66,3,66,7],[63,9,64,13],[65,9,66,13],[68,11,68,14],[72,5,74,5],[80,3,82,4],[80,5,82,5],[80,8,82,8],[80,9,82,9],[80,10,82,10],[81,6,82,6],[70,3,70,13],[81,12,82,12],[81,7,82,7],[77,12,78,12],[77,11,78,11],[77,7,78,7],[77,6,78,6],[76,10,78,10],[76,9,78,9],[76,8,78,8],[81,11,82,11],[76,5,78,5],[76,3,78,4],[11,12,11,13],[21,8,23,13],[17,3,19,4],[17,8,17,9],[18,5,19,5],[18,8,18,9],[19,8,19,9],[58,3,65,3],[21,3,23,4],[22,5,23,5],[22,6,23,6],[25,3,25,13],[27,3,29,3],[27,4,29,4],[27,5,29,5],[27,6,29,6],[27,7,29,7],[27,9,62,13],[31,3,33,3],[34,3,35,3],[40,3,42,3],[43,3,44,3],[49,3,51,3],[52,3,53,3],[91,3,99,3],[91,9,99,9],[98,4,99,4],[98,5,99,5],[98,6,99,6],[98,7,99,7],[98,10,99,10],[98,11,99,11],[84,3,84,13],[86,3,86,7],[86,9,86,12],[87,3,89,3],[87,4,89,4],[87,5,89,5],[87,6,89,6],[87,7,89,7],[87,9,89,9],[98,12,99,12],[101,3,109,3],[101,9,109,9],[108,4,109,4],[108,5,109,5],[108,6,109,6],[108,7,109,7],[108,10,109,10],[108,11,109,11],[108,12,109,12],[118,5,119,5],[118,6,119,6],[118,7,119,7],[128,11,129,11],[128,12,129,12],[135,3,137,13],[139,8,139,13],[140,8,140,13],[141,8,141,13],[133,3,134,13],[118,10,119,10],[118,11,119,11],[118,12,119,12],[121,3,129,3],[121,9,129,9],[128,4,129,4],[128,5,129,5],[128,6,129,6],[128,7,129,7],[128,10,129,10],[111,3,119,3],[111,9,119,9],[118,4,119,4],[131,11,131,14],[142,8,142,13],[143,8,143,13],[144,8,144,13],[147,8,147,13],[148,8,148,13],[145,4,145,5],[145,8,145,13],[143,3,144,3],[139,3,142,3],[149,8,149,13],[150,8,150,13],[151,8,151,13],[152,8,152,13],[153,4,153,5],[153,8,153,13],[151,3,152,3],[147,3,150,3],[155,8,155,13],[156,8,156,13],[157,8,157,13],[158,8,158,13],[159,8,159,13],[160,8,160,13],[161,4,161,5],[161,8,161,13],[159,3,160,3],[155,3,158,3],[163,8,163,13],[164,8,164,13],[165,8,165,13],[166,8,166,13],[167,8,167,13],[168,8,168,13],[169,4,169,5],[169,8,169,13],[167,3,168,3],[163,3,166,3],[171,8,171,13],[172,8,172,13],[173,8,173,13],[174,8,174,13],[175,8,175,13],[176,8,176,13],[177,4,177,5],[177,8,177,13],[175,3,176,3],[171,3,174,3],[187,8,187,13],[188,8,188,13],[189,8,189,13],[190,8,190,13],[191,8,191,13],[192,8,192,13],[193,4,193,5],[193,8,193,13],[191,3,192,3],[187,3,190,3],[179,8,179,13],[180,8,180,13],[181,8,181,13],[182,8,182,13],[183,8,183,13],[184,8,184,13],[185,4,185,5],[185,8,185,13],[183,3,184,3],[179,3,182,3],[197,17,197,26],[199,3,201,13],[203,8,203,13],[204,8,204,13],[205,8,205,13],[206,8,206,13],[207,8,207,13],[211,8,211,13],[212,8,212,13],[208,8,208,13],[209,4,209,5],[209,8,209,13],[207,3,208,3],[203,3,206,3],[197,3,198,13],[213,8,213,13],[214,8,214,13],[215,8,215,13],[216,8,216,13],[217,4,217,5],[217,8,217,13],[215,3,216,3],[211,3,214,3],[219,8,219,13],[220,8,220,13],[221,8,221,13],[222,8,222,13],[223,8,223,13],[224,8,224,13],[225,4,225,5],[225,8,225,13],[223,3,224,3],[219,3,222,3],[227,8,227,13],[228,8,228,13],[229,8,229,13],[230,8,230,13],[231,8,231,13],[232,8,232,13],[233,4,233,5],[233,8,233,13],[231,3,232,3],[227,3,230,3],[235,8,235,13],[236,8,236,13],[237,8,237,13],[238,8,238,13],[239,8,239,13],[240,8,240,13],[241,4,241,5],[241,8,241,13],[239,3,240,3],[235,3,238,3],[251,8,251,13],[252,8,252,13],[253,8,253,13],[254,8,254,13],[255,8,255,13],[256,8,256,13],[257,4,257,5],[257,8,257,13],[255,3,256,3],[251,3,254,3],[243,8,243,13],[244,8,244,13],[245,8,245,13],[246,8,246,13],[247,8,247,13],[248,8,248,13],[249,4,249,5],[249,8,249,13],[247,3,248,3],[243,3,246,3],[261,17,261,26],[263,3,265,13],[267,8,267,13],[268,8,268,13],[269,8,269,13],[270,8,270,13],[271,8,271,13],[275,8,275,13],[276,8,276,13],[272,8,272,13],[273,4,273,5],[273,8,273,13],[271,3,272,3],[267,3,270,3],[261,3,262,13],[277,8,277,13],[278,8,278,13],[279,8,279,13],[280,8,280,13],[281,4,281,5],[281,8,281,13],[279,3,280,3],[275,3,278,3],[283,8,283,13],[284,8,284,13],[285,8,285,13],[286,8,286,13],[287,8,287,13],[288,8,288,13],[289,4,289,5],[289,8,289,13],[287,3,288,3],[283,3,286,3],[303,3,304,3],[311,3,312,3],[299,3,302,3],[307,3,310,3],[291,8,291,13],[292,8,292,13],[293,8,293,13],[294,8,294,13],[295,8,295,13],[296,8,296,13],[297,4,297,5],[297,8,297,13],[295,3,296,3],[291,3,294,3],[325,3,326,13],[325,17,325,26],[315,8,315,13],[316,8,316,13],[317,8,317,13],[318,8,318,13],[319,8,319,13],[320,8,320,13],[321,4,321,5],[321,8,321,13],[319,3,320,3],[315,3,318,3],[73,12,74,12],[73,11,74,11],[73,7,74,7],[73,6,74,6],[72,10,74,10],[72,9,74,9],[72,8,74,8],[72,3,74,4],[313,4,313,5],[313,8,313,13],[299,8,299,13],[300,8,300,13],[301,8,301,13],[302,8,302,13],[303,8,303,13],[304,8,304,13],[305,4,305,5],[305,8,305,13],[307,8,307,13],[308,8,308,13],[309,8,309,13],[310,8,310,13],[311,8,311,13],[312,8,312,13]]}
[]
[null,null,"■再エネ目標設定支援ツール　　検討シート（目標年度１）"]
[null,null,null,"都道府県コード",{"$f":"現状シート!E3","v":0},"都道府県名",{"$f":"現状シート!G3","v":0},null,"※自治体再エネ情報カルテ引用値"]
[null,null,null,"市町村コード",{"$f":"現状シート!E4","v":0},"市町村名",{"$f":"現状シート!G4","v":0},null,"※ユーザー設定セル"]
[]
[]
[null,null,null,"２．目標の検討（目標年度1）"]
[]
[]
[null,null,null,"★ステップ1  目標検討のための前提条件の設定　（※目標年度を設定してください。その他の設定値はデフォルト値のままでも検討を進めることができます。）"]
[]
[null,null,null,"設定①目標年度 【設定２－１】\n※目標検討を行う年度を設定してください。",null,"目標年度（年）","設定④設備利用率\n【設定２－４】\n※エネルギー種ごとの設備利用率を設定してください。\n※デフォルト値は「自治体排出量カルテ　別紙」に記載の設備利用率です。（詳細は右下の注釈をご確認ください。）","エネルギー種","設備利用率(-)",null,"設定⑤排出係数　\n【設定２－５】\n※温室効果ガス（二酸化炭素）排出量の算定のための排出係数を設定してください。\n※デフォルト値は「電気事業者別排出係数(特定排出者の温室効果ガス排出量算定用)－R３年度実績－」の全国平均係数です。\n\n【参考】電気事業者別排出係数関連ページ\n（https://ghg-santeikohyo.env.go.jp/calc/denki）",null,"排出係数 (t-CO2/kWh)"]
[null,null,null,null,null,null,null,"太陽光発電(10kW未満)",0.13700000000000001,null,null,null,4.35E-4]
[null,null,null,null,null,null,null,"太陽光発電(10kW以上)",0.151]
[null,null,null,"設定②目標年度の電気使用量 【設定２－２】\n※目標年度の電気使用量を設定してください。\n※デフォルト値は現状の電気使用量です。",null,"電気使用量（MWh/年）",null,"陸上風力発電",0.248]
[null,null,null,null,null,{"$f":"現状シート!G11","v":0},null,"洋上風力発電",0.248]
[null,null,null,null,null,null,null,"中小水力発電",0.6]
[null,null,null,"設定③参考 目標年度の二酸化炭素排出量 【設定２－３】\n※目標年度の二酸化炭素排出量を設定してください。\n※デフォルト値は現状の二酸化炭素排出量（※単位は「t/年」）です。　",null,"二酸化炭素排出量（t/年）",null,"バイオマス発電",0.8]
[null,null,null,null,null,{"$f":"現状シート!G43*1000","v":0},null,"地熱発電",0.8]
[null,null,null,null,null,null,null,"-","-"]
[]
[null,null,null,"（参考）現状の導入ポテンシャル（合計）",null,"設備容量（MW）","年間発電電力量（MWh/年）",null,"注）設備利用率について\n「自治体排出量カルテ」に記載の発電電力量は、調達価格等算定委員会「調達価格等に関する意見」の設備利用率（平成28年度）等から推計されています。なお、本ツールにおいては、同資料に記載の「太陽光発電（10kW未満）」の設備利用率を「太陽光（建物系）」に、「太陽光（10kW以上）」の設備利用率を「太陽光（土地系）」に適用する設計としております。設備利用率は実際には地域差等があることから、推計値は実際の発電電力量とは一致しません。目安としてご活用ください。"]
[null,null,null,null,null,{"$f":"現状シート!F21","v":0},{"$f":"現状シート!G21","v":0}]
[]
[]
[null,null,null,"★ステップ２　導入見込み量の設定　（※任意の導入見込み量を設定してください。未設定のままでも検討を進めることができます。）"]
[]
[null,null,null,"入力項目","再エネ区分","設備容量\n（MW)","再エネによる\n年間発電電力量\n（MWh/年)","（参考）\n年間二酸化炭素削減量\n（t-CO2/年）※",null,null,null,null,null,null,null,null,null,"電力ベース"]
[]
[null,null,null,null,null,null,null,null,null,null,null,null,null,null,null,null,null,"項目","現状","途中計算1\n（現状+導入見込み量①）","途中計算2\n（現状+導入見込み量①②）","検討結果\n（目標年度合計）"]
[null,null,null,null,null,null,null,null,null,null,null,null,null,null,null,null,null,"太陽光（建物系）",{"$f":"G92","v":0},{"$f":"G102","v":0},{"$f":"G112","v":0},{"$f":"G122","v":0}]
[null,null,null,"導入見込み量①\n　既存計画により見込まれる導入量","太陽光（建物系）",{"$f":"G146","v":0},{"$f":"IFERROR(F32*I13*8760,\"\")","v":0},{"$f":"G32*$M$13*1000","v":0},null,null,null,null,null,null,null,null,null,"太陽光（土地系）",0,0,0,0]
[null,null,null,null,"太陽光（土地系）",{"$f":"G154","v":0},0,{"$f":"G33*$M$13*1000","v":0},null,null,null,null,null,null,null,null,null,"陸上風力",0,0,0,0]
[null,null,null,null,"陸上風力",{"$f":"G162","v":0},0,0,null,null,null,null,null,null,null,null,null,"洋上風力",0,0,0,0]
[null,null,null,"【設定２－６】（→設定欄に移動）","洋上風力",{"$f":"G170","v":0},0,0,null,null,null,null,null,null,null,null,null,"中小水力",0,0,0,0]
[null,null,null,null,"中小水力",{"$f":"G178","v":0},0,0,null,null,null,null,null,null,null,null,null,"バイオマス",0,0,0,0]
[null,null,null,"※【設定２－６】をクリックすると設定欄に移動します。","バイオマス",{"$f":"G186","v":0},0,0,null,null,null,null,null,null,null,null,null,"地熱",0,0,0,0]
[null,null,null,"※設定欄に入力した値が右表とグラフに反映されます。","地熱",{"$f":"G194","v":0},0,0]
[null,null,null,null,"合計",{"$f":"IFERROR(SUM(F32:F38),\"\")","v":0},{"$f":"IFERROR(SUM(G32:G38),\"\")","v":0},{"$f":"IFERROR(SUM(H32:H38),\"\")","v":0}]
[]
[null,null,null,"導入見込み量②\n　促進区域の設定等により見込まれる導入量","太陽光（建物系）",{"$f":"G210","v":0},{"$f":"IFERROR(F41*I13*8760,\"\")","v":0},{"$f":"G41*$M$13*1000","v":0}]
[null,null,null,null,"太陽光（土地系）",{"$f":"G218","v":0},0,{"$f":"G42*$M$13*1000","v":0}]
[null,null,null,null,"陸上風力",{"$f":"G226","v":0},0,0]
[null,null,null,"【設定２－７】（→設定欄に移動）","洋上風力",{"$f":"G234","v":0},0,0]
[null,null,null,null,"中小水力",{"$f":"G242","v":0},0,0]
[null,null,null,"※【設定２－７】をクリックすると設定欄に移動します。","バイオマス",{"$f":"G250","v":0},0,0]
[null,null,null,"※設定欄に入力した値が右表とグラフに反映されます。","地熱",{"$f":"G258","v":0},0,0]
[null,null,null,null,"合計",{"$f":"IFERROR(SUM(F41:F47),\"\")","v":0},{"$f":"IFERROR(SUM(G41:G47),\"\")","v":0},{"$f":"IFERROR(SUM(H41:H47),\"\")","v":0}]
[]
[null,null,null,"導入見込み量③\n　上記以外により見込まれる導入量","太陽光（建物系）",{"$f":"G274","v":0},{"$f":"IFERROR(F50*I13*8760,\"\")","v":0},{"$f":"G50*$M$13*1000","v":0}]
[null,null,null,null,"太陽光（土地系）",{"$f":"G282","v":0},0,{"$f":"G51*$M$13*1000","v":0}]
[null,null,null,null,"陸上風力",{"$f":"G290","v":0},0,0]
[null,null,null,"【設定２－８】（→設定欄に移動）","洋上風力",{"$f":"G298","v":0},0,0]
[null,null,null,null,"中小水力",{"$f":"G306","v":0},0,0]
[null,null,null,"※【設定２－８】をクリックすると設定欄に移動します。","バイオマス",{"$f":"G314","v":0},0,0]
[null,null,null,"※設定欄に入力した値が右表とグラフに反映されます。","地熱",{"$f":"G322","v":0},0,0]
[null,null,null,null,"合計",{"$f":"IFERROR(SUM(F50:F56),\"\")","v":0},{"$f":"IFERROR(SUM(G50:G56),\"\")","v":0},{"$f":"IFERROR(SUM(H50:H56),\"\")","v":0}]
[]
[null,null,null,"導入見込み量合計\n=  導入見込み量①\n　+導入見込み量②\n　+導入見込み量③","太陽光（建物系）",{"$f":"F32+F41+F50","v":0},0,{"$f":"G59*$M$13*1000","v":0}]
[null,null,null,null,"太陽光（土地系）",0,{"$f":"G33+G42+G51","v":0},{"$f":"G60*$M$13*1000","v":0}]
[null,null,null,null,"陸上風力",0,0,0]
[null,null,null,null,"洋上風力",0,0,0]
[null,null,null,null,"中小水力",0,0,0]
[null,null,null,null,"バイオマス",0,0,0]
[null,null,null,null,"地熱",0,0,0]
[null,null,null,null,"合計",0,0,{"$f":"H39+H48+H57","v":0},null,"図２－１　年間発電電力量の比較\n（現状の再エネ導入実績、検討結果　※P2-3に示す合計値を表示）"]
[null,null,null,"※「（参考）年間二酸化炭素削減量」は、再生可能エネルギーによって発電された電力が区域内で全て消費されると仮定した場合に想定される二酸化炭素の削減量を示しています。"]
[]
[null,null,null,null,null,null,null,null,null,null,null,"検討シート（目標年度1）：P1"]
[]
[null,null,null,"★ステップ３　参考指標を踏まえた「目標とする値」の設定　（※目標として（目標検討の目安として）想定する参考指標について、任意の比率を設定してください。デフォルト値のままでも検討を進めることができます。）"]
[]
[null,null,null,"参考指標１　「目標年度の電気使用量」に基づく目標値\n※「目標年度の電気使用量」（設定②）に占める「目標年度の再エネ導入量」（検討結果③）の比率を設定してください。デフォルト値は100%です。",null,"目標とする値\n【設定２－９】","目標とする再エネ導入量の比率","年間発電電力量（MWh/年）","達成\n状況",{"$f":"IF(OR(F16=\"\",G74=\"\"),\"条件未設定\",IF(K129<1,\"未達\",\"達成\"))","v":"未達"},"目標とする値との差分","比率","年間発電電力量（MWh/年）"]
[null,null,null,null,null,null,1,{"$f":"IF(OR(F16=\"\",G74=\"\"),\"条件未設定\",F16*G74)","v":0},null,null,null,{"$f":"IF(OR(F16=\"\",G74=\"\"),\"条件未設定\",K129-1)","v":-1},{"$f":"IF(OR(F16=\"\",G74=\"\"),\"条件未設定\",G129-H74)","v":0}]
[]
[]
[null,null,null,"参考指標２　「現状の導入ポテンシャル」に基づく目標値\n※「（参考）現状の導入ポテンシャル（合計）（年間発電電力量）」に占める「目標年度の再エネ導入量」（検討結果③）の比率を設定してください。デフォルト値は100%です。",null,"目標とする値\n【設定２－１０】","目標とする再エネ導入量の比率","年間発電電力量（MWh/年）","達成\n状況",{"$f":"IF(G78=\"\",\"条件未設定\",IF(L129<1,\"未達\",\"達成\"))","v":"未達"},"目標とする値との差分","比率","年間発電電力量（MWh/年）"]
[null,null,null,null,null,null,1,{"$f":"IF(G78=\"\",\"条件未設定\",G23*G78)","v":0},null,null,null,{"$f":"IF(G78=\"\",\"条件未設定\",L129-1)","v":-1},{"$f":"IF(G78=\"\",\"条件未設定\",G129-H78)","v":0}]
[]
[]
[null,null,null,"参考指標３　二酸化炭素削減率に基づく目標値（参考）\n※「目標年度の二酸化炭素排出量」（設定③）に対する「目標年度の再エネ導入量」（検討結果③）による二酸化炭素削減量の比率を設定してください。デフォルト値は100%です。",null,"目標とする値\n【設定２－１１】","目標とするCO2削減率","年間CO2削減量（t-CO2/年)","達成\n状況",{"$f":"IF(OR(F19=\"\",G82=\"\"),\"条件未設定\",IF(M129<1,\"未達\",\"達成\"))","v":"未達"},"目標とする値との差分","比率","年間CO2削減量（t-CO2/年)"]
[null,null,null,null,null,null,1,{"$f":"IF(OR(F19=\"\",G82=\"\"),\"条件未設定\",F19*G82)","v":0},null,null,null,{"$f":"IF(OR(F19=\"\",G82=\"\"),\"条件未設定\",M129-1)","v":-1},{"$f":"IF(OR(F19=\"\",G82=\"\"),\"条件未設定\",H129-H82)","v":0}]
[]
[null,null,null,"※「（参考）年間二酸化炭素削減量」は、再生可能エネルギーによって発電された電力が区域内で全て消費されると仮定した場合に想定される二酸化炭素の削減量を示しています。"]
[null,null,null,"★ステップ４　検討結果の確認　（※ステップ2及びステップ3の入力・設定内容の結果が表示されています。ステップ4を参照して、ステップ2及びステップ3の設定を調整してください。）"]
[]
[null,null,null,"検討結果",null,null,null,null,null,"検討結果の評価"]
[null,null,null,"項目","再エネ区分","再エネ\n設備容量\n（MW)","再エネによる\n年間発電電力量\n（MWh/年)","（参考）再エネによる\n年間二酸化炭素削減量\n（t-CO2/年）※",null,"項目","参考指標1（年間発電電力量）","参考指標2（年間発電電力量）","参考指標3（年間CO2削減量）"]
[null,null,null,null,null,null,null,null,null,null,"に対する","に対する","に対する"]
[null,null,null,null,null,null,null,null,null,null,"再エネによる年間発電電力量の割合","再エネによる年間発電電力量の割合","再エネによる年間二酸化炭素削減量の割合"]
[]
[null,null,null,"【現状】現状の再エネ導入実績","太陽光（建物系）",{"$f":"現状シート!F24","v":0},{"$f":"現状シート!G24","v":0},{"$f":"G92*$M$13*1000","v":0},null,"評価⓪",{"$f":"IFERROR(G92/$H$74,\"条件未設定\")","v":"条件未設定"},{"$f":"IFERROR((G92/$H$78),\"条件未設定\")","v":"条件未設定"},{"$f":"IFERROR((H92/$H$82),\"条件未設定\")","v":"条件未設定"}]
[null,null,null,null,"太陽光（土地系）",{"$f":"現状シート!F25","v":0},{"$f":"現状シート!G25","v":0},{"$f":"G93*$M$13*1000","v":0},null,null,{"$f":"IFERROR(G93/$H$74,\"条件未設定\")","v":"条件未設定"},{"$f":"IFERROR((G93/$H$78),\"条件未設定\")","v":"条件未設定"},{"$f":"IFERROR((H93/$H$82),\"条件未設定\")","v":"条件未設定"}]
[null,null,null,null,"陸上風力",{"$f":"現状シート!F26","v":0},{"$f":"現状シート!G26","v":0},0,null,null,{"$f":"IFERROR(G94/$H$74,\"条件未設定\")","v":"条件未設定"},"条件未設定","条件未設定"]
[null,null,null,null,"洋上風力",{"$f":"現状シート!F27","v":0},{"$f":"現状シート!G27","v":0},0,null,null,{"$f":"IFERROR(G95/$H$74,\"条件未設定\")","v":"条件未設定"},"条件未設定","条件未設定"]
[null,null,null,null,"中小水力",{"$f":"現状シート!F28","v":0},{"$f":"現状シート!G28","v":0},0,null,null,{"$f":"IFERROR(G96/$H$74,\"条件未設定\")","v":"条件未設定"},"条件未設定","条件未設定"]
[null,null,null,null,"バイオマス",{"$f":"現状シート!F29","v":0},{"$f":"現状シート!G29","v":0},0,null,null,{"$f":"IFERROR(G97/$H$74,\"条件未設定\")","v":"条件未設定"},"条件未設定","条件未設定"]
[null,null,null,null,"地熱",{"$f":"現状シート!F30","v":0},{"$f":"現状シート!G30","v":0},0,null,null,"条件未設定","条件未設定","条件未設定"]
[null,null,null,null,"合計",{"$f":"SUM(F92:F98)","v":0},{"$f":"SUM(G92:G98)","v":0},{"$f":"SUM(H92:H98)","v":0},null,null,{"$f":"IFERROR(SUM(K92:K98),\"条件未設定\")","v":0},{"$f":"SUM(L92:L98)","v":0},0]
[]
[]
[null,null,null,"途中計算１\n=現状の再エネ導入実績\n　+導入見込み量①","太陽光（建物系）",{"$f":"F92+F32","v":0},0,0,null,"評価①",{"$f":"IFERROR(G102/$H$74,\"条件未設定\")","v":"条件未設定"},{"$f":"IFERROR((G102/$H$78),\"条件未設定\")","v":"条件未設定"},{"$f":"IFERROR((H102/$H$82),\"条件未設定\")","v":"条件未設定"}]
[null,null,null,null,"太陽光（土地系）",0,0,0,null,null,"条件未設定","条件未設定","条件未設定"]
[null,null,null,null,"陸上風力",0,0,0,null,null,"条件未設定","条件未設定","条件未設定"]
[null,null,null,null,"洋上風力",0,0,0,null,null,"条件未設定","条件未設定","条件未設定"]
[null,null,null,null,"中小水力",0,0,0,null,null,"条件未設定","条件未設定","条件未設定"]
[null,null,null,null,"バイオマス",0,0,0,null,null,"条件未設定","条件未設定","条件未設定"]
[null,null,null,null,"地熱",0,0,0,null,null,{"$f":"IFERROR(G108/$H$74,\"条件未設定\")","v":"条件未設定"},"条件未設定","条件未設定"]
[null,null,null,null,"合計",{"$f":"SUM(F102:F108)","v":0},{"$f":"SUM(G102:G108)","v":0},{"$f":"SUM(H102:H108)","v":0},null,null,{"$f":"SUM(K102:K108)","v":0},0,0]
[]
[]
[null,null,null,"途中計算２\n=現状の再エネ導入実績\n　+導入見込み量①\n　+導入見込み量②","太陽光（建物系）",{"$f":"F102+F41","v":0},0,0,null,"評価②",{"$f":"IFERROR(G112/$H$74,\"条件未設定\")","v":"条件未設定"},{"$f":"IFERROR((G112/$H$78),\"条件未設定\")","v":"条件未設定"},{"$f":"IFERROR((H112/$H$82),\"条件未設定\")","v":"条件未設定"}]
[null,null,null,null,"太陽光（土地系）",0,0,0,null,null,"条件未設定","条件未設定","条件未設定"]
[null,null,null,null,"陸上風力",0,0,0,null,null,"条件未設定","条件未設定","条件未設定"]
[null,null,null,null,"洋上風力",0,0,0,null,null,"条件未設定","条件未設定","条件未設定"]
[null,null,null,null,"中小水力",0,0,0,null,null,"条件未設定","条件未設定","条件未設定"]
[null,null,null,null,"バイオマス",0,0,0,null,null,"条件未設定","条件未設定","条件未設定"]
[null,null,null,null,"地熱",0,0,0,null,null,"条件未設定","条件未設定","条件未設定"]
[null,null,null,null,"合計",{"$f":"SUM(F112:F118)","v":0},{"$f":"SUM(G112:G118)","v":0},{"$f":"SUM(H112:H118)","v":0},null,null,{"$f":"SUM(K112:K118)","v":0},0,0]
[]
[]
[null,null,null,"【検討結果】目標年度の再エネ導入量\n=現状の再エネ導入実績\n　+導入見込み量①\n　+導入見込み量②\n　+導入見込み量③","太陽光（建物系）",{"$f":"F112+F50","v":0},0,0,null,"評価③",{"$f":"IFERROR(G122/$H$74,\"条件未設定\")","v":"条件未設定"},{"$f":"IFERROR((G122/$H$78),\"条件未設定\")","v":"条件未設定"},{"$f":"IFERROR((H122/$H$82),\"条件未設定\")","v":"条件未設定"}]
[null,null,null,null,"太陽光（土地系）",0,0,0,null,null,"条件未設定","条件未設定","条件未設定"]
[null,null,null,null,"陸上風力",0,0,0,null,null,"条件未設定","条件未設定","条件未設定"]
[null,null,null,null,"洋上風力",0,0,0,null,null,"条件未設定","条件未設定","条件未設定"]
[null,null,null,null,"中小水力",0,0,0,null,null,"条件未設定","条件未設定","条件未設定"]
[null,null,null,null,"バイオマス",0,0,0,null,null,"条件未設定","条件未設定","条件未設定"]
[null,null,null,null,"地熱",0,0,0,null,null,"条件未設定","条件未設定","条件未設定"]
[null,null,null,null,"合計",{"$f":"SUM(F122:F128)","v":0},{"$f":"SUM(G122:G128)","v":0},{"$f":"SUM(H122:H128)","v":0},null,null,{"$f":"SUM(K122:K128)","v":0},{"$f":"SUM(L122:L128)","v":0},{"$f":"SUM(M122:M128)","v":0}]
[]
[null,null,null,"※「（参考）年間二酸化炭素削減量」は、再生可能エネルギーによって発電された電力が区域内で全て消費されると仮定した場合に想定される二酸化炭素の削減量を示しています。"]
[null,null,null,null,null,null,null,null,null,null,null,"検討シート（目標年度1）：P2"]
[]
[null,null,null,"設定欄【設定２－６】　導入見込み量①既存計画により見込まれる導入量"]
[]
[null,null,null,"・エネルギー種別に、既存計画により見込まれる再エネの導入量の「設備容量」を「MW単位」で入力ください。行が足りない場合は、適宜追加してください。\n・入力された「設備容量」は、エネルギー種別の合計値が、「検討シート（目標年度1）：P1　導入見込み量①」の「設備容量」欄に反映されます。\n・入力された「年間発電電力量」は、「検討シート（目標年度1）：P1　導入見込み量①」には反映されません。情報をお持ちの場合に参考として入力ください。"]
[]
[]
[]
[null,null,null,"太陽光（建物系）","ID","名称","設備容量（MW)","年間発電電力量（MWh/年)","備考"]
[null,null,null,null,1]
[null,null,null,null,2]
[null,null,null,null,3]
[null,null,null,"【戻る】",4]
[null,null,null,null,5]
[null,null,null,"※【戻る】をクリックすると「検討シート（目標年度1）：P1」に戻ります。","合計",null,{"$f":"SUM(G141:G145)","v":0},{"$f":"SUM(H141:H145)","v":0}]
[]
[null,null,null,"太陽光（土地系）","ID","名称","設備容量（MW)","年間発電電力量（MWh/年)","備考"]
[null,null,null,null,1]
[null,null,null,null,2]
[null,null,null,null,3]
[null,null,null,"【戻る】",4]
[null,null,null,null,5]
[null,null,null,"※【戻る】をクリックすると「検討シート（目標年度1）：P1」に戻ります。","合計",null,{"$f":"SUM(G149:G153)","v":0},{"$f":"SUM(H149:H153)","v":0}]
[]
[null,null,null,"陸上風力","ID","名称","設備容量（MW)","年間発電電力量（MWh/年)","備考"]
[null,null,null,null,1]
[null,null,null,null,2]
[null,null,null,null,3]
[null,null,null,"【戻る】",4]
[null,null,null,null,5]
[null,null,null,"※【戻る】をクリックすると「検討シート（目標年度1）：P1」に戻ります。","合計",null,{"$f":"SUM(G157:G161)","v":0},{"$f":"SUM(H157:H161)","v":0}]
[]
[null,null,null,"洋上風力","ID","名称","設備容量（MW)","年間発電電力量（MWh/年)","備考"]
[null,null,null,null,1]
[null,null,null,null,2]
[null,null,null,null,3]
[null,null,null,"【戻る】",4]
[null,null,null,null,5]
[null,null,null,"※【戻る】をクリックすると「検討シート（目標年度1）：P1」に戻ります。","合計",null,{"$f":"SUM(G165:G169)","v":0},{"$f":"SUM(H165:H169)","v":0}]
[]
[null,null,null,"中小水力","ID","名称","設備容量（MW)","年間発電電力量（MWh/年)","備考"]
[null,null,null,null,1]
[null,null,null,null,2]
[null,null,null,null,3]
[null,null,null,"【戻る】",4]
[null,null,null,null,5]
[null,null,null,"※【戻る】をクリックすると「検討シート（目標年度1）：P1」に戻ります。","合計",null,{"$f":"SUM(G173:G177)","v":0},{"$f":"SUM(H173:H177)","v":0}]
[]
[null,null,null,"バイオマス","ID","名称","設備容量（MW)","年間発電電力量（MWh/年)","備考"]
[null,null,null,null,1]
[null,null,null,null,2]
[null,null,null,null,3]
[null,null,null,"【戻る】",4]
[null,null,null,null,5]
[null,null,null,"※【戻る】をクリックすると「検討シート（目標年度1）：P1」に戻ります。","合計",null,{"$f":"SUM(G181:G185)","v":0},{"$f":"SUM(H181:H185)","v":0}]
[]
[null,null,null,"地熱","ID","名称","設備容量（MW)","年間発電電力量（MWh/年)","備考"]
[null,null,null,null,1]
[null,null,null,null,2]
[null,null,null,null,3]
[null,null,null,"【戻る】",4]
[null,null,null,null,5]
[null,null,null,"※【戻る】をクリックすると「検討シート（目標年度1）：P1」に戻ります。","合計",null,{"$f":"SUM(G189:G193)","v":0},{"$f":"SUM(H189:H193)","v":0}]
[]
[null,null,null,null,null,null,null,null,null,null,null,"検討シート（目標年度1）：P3"]
[]
[null,null,null,"設定欄【設定２－７】　導入見込み量②促進区域の設定等により見込まれる導入量"]
[]
[null,null,null,"・エネルギー種別に、促進区域の設定等により見込まれる再エネの導入量の「設備容量」を「MW単位」で入力ください。行が足りない場合は、適宜追加してください。\n・太陽光（建物系、土地系）、陸上風力については、REPOSで提供する「促進区域検討支援ツール」によって得られる検討結果を入力することも想定されます。\n・入力された「設備容量」は、エネルギー種別の合計値が、「検討シート（目標年度1）：P1　導入見込み量②」に反映されます。入力された「年間発電電力量」は同シートには反映されません。情報をお持ちの場合に参考として入力ください。"]
[]
[]
[]
[null,null,null,"太陽光（建物系）","ID","名称","設備容量（MW)","年間発電電力量（MWh/年)","備考"]
[null,null,null,null,1]
[null,null,null,null,2]
[null,null,null,null,3]
[null,null,null,"【戻る】",4]
[null,null,null,null,5]
[null,null,null,"※【戻る】をクリックすると「検討シート（目標年度1）：P1」に戻ります。","合計",null,{"$f":"SUM(G205:G209)","v":0},{"$f":"SUM(H205:H209)","v":0}]
[]
[null,null,null,"太陽光（土地系）","ID","名称","設備容量（MW)","年間発電電力量（MWh/年)","備考"]
[null,null,null,null,1]
[null,null,null,null,2]
[null,null,null,null,3]
[null,null,null,"【戻る】",4]
[null,null,null,null,5]
[null,null,null,"※【戻る】をクリックすると「検討シート（目標年度1）：P1」に戻ります。","合計",null,{"$f":"SUM(G213:G217)","v":0},{"$f":"SUM(H213:H217)","v":0}]
[]
[null,null,null,"陸上風力","ID","名称","設備容量（MW)","年間発電電力量（MWh/年)","備考"]
[null,null,null,null,1]
[null,null,null,null,2]
[null,null,null,null,3]
[null,null,null,"【戻る】",4]
[null,null,null,null,5]
[null,null,null,"※【戻る】をクリックすると「検討シート（目標年度1）：P1」に戻ります。","合計",null,{"$f":"SUM(G221:G225)","v":0},{"$f":"SUM(H221:H225)","v":0}]
[]
[null,null,null,"洋上風力","ID","名称","設備容量（MW)","年間発電電力量（MWh/年)","備考"]
[null,null,null,null,1]
[null,null,null,null,2]
[null,null,null,null,3]
[null,null,null,"【戻る】",4]
[null,null,null,null,5]
[null,null,null,"※【戻る】をクリックすると「検討シート（目標年度1）：P1」に戻ります。","合計",null,{"$f":"SUM(G229:G233)","v":0},{"$f":"SUM(H229:H233)","v":0}]
[]
[null,null,null,"中小水力","ID","名称","設備容量（MW)","年間発電電力量（MWh/年)","備考"]
[null,null,null,null,1]
[null,null,null,null,2]
[null,null,null,null,3]
[null,null,null,"【戻る】",4]
[null,null,null,null,5]
[null,null,null,"※【戻る】をクリックすると「検討シート（目標年度1）：P1」に戻ります。","合計",null,{"$f":"SUM(G237:G241)","v":0},{"$f":"SUM(H237:H241)","v":0}]
[]
[null,null,null,"バイオマス","ID","名称","設備容量（MW)","年間発電電力量（MWh/年)","備考"]
[null,null,null,null,1]
[null,null,null,null,2]
[null,null,null,null,3]
[null,null,null,"【戻る】",4]
[null,null,null,null,5]
[null,null,null,"※【戻る】をクリックすると「検討シート（目標年度1）：P1」に戻ります。","合計",null,{"$f":"SUM(G245:G249)","v":0},{"$f":"SUM(H245:H249)","v":0}]
[]
[null,null,null,"地熱","ID","名称","設備容量（MW)","年間発電電力量（MWh/年)","備考"]
[null,null,null,null,1]
[null,null,null,null,2]
[null,null,null,null,3]
[null,null,null,"【戻る】",4]
[null,null,null,null,5]
[null,null,null,"※【戻る】をクリックすると「検討シート（目標年度1）：P1」に戻ります。","合計",null,{"$f":"SUM(G253:G257)","v":0},{"$f":"SUM(H253:H257)","v":0}]
[]
[null,null,null,null,null,null,null,null,null,null,null,"検討シート（目標年度1）：P4"]
[]
[null,null,null,"設定欄【設定２－８】　導入見込み量③上記以外により見込まれる導入量"]
[]
[null,null,null,"・エネルギー種別に、導入見込み量①及び②以外で見込まれる再エネの導入量の「設備容量」を「MW単位」で入力ください。行が足りない場合は、適宜追加してください。\n・入力された「設備容量」は、エネルギー種別の合計値が、「検討シート（目標年度1）：P1　導入見込み量③」の「設備容量」欄に反映されます。\n・入力された「年間発電電力量」は、「検討シート（目標年度1）：P1　導入見込み量③」には反映されません。情報をお持ちの場合に参考として入力ください。"]
[]
[]
[]
[null,null,null,"太陽光（建物系）","ID","名称","設備容量（MW)","年間発電電力量（MWh/年)","備考"]
[null,null,null,null,1]
[null,null,null,null,2]
[null,null,null,null,3]
[null,null,null,"【戻る】",4]
[null,null,null,null,5]
[null,null,null,"※【戻る】をクリックすると「検討シート（目標年度1）：P1」に戻ります。","合計",null,{"$f":"SUM(G269:G273)","v":0},{"$f":"SUM(H269:H273)","v":0}]
[]
[null,null,null,"太陽光（土地系）","ID","名称","設備容量（MW)","年間発電電力量（MWh/年)","備考"]
[null,null,null,null,1]
[null,null,null,null,2]
[null,null,null,null,3]
[null,null,null,"【戻る】",4]
[null,null,null,null,5]
[null,null,null,"※【戻る】をクリックすると「検討シート（目標年度1）：P1」に戻ります。","合計",null,{"$f":"SUM(G277:G281)","v":0},{"$f":"SUM(H277:H281)","v":0}]
[]
[null,null,null,"陸上風力","ID","名称","設備容量（MW)","年間発電電力量（MWh/年)","備考"]
[null,null,null,null,1]
[null,null,null,null,2]
[null,null,null,null,3]
[null,null,null,"【戻る】",4]
[null,null,null,null,5]
[null,null,null,"※【戻る】をクリックすると「検討シート（目標年度1）：P1」に戻ります。","合計",null,{"$f":"SUM(G285:G289)","v":0},{"$f":"SUM(H285:H289)","v":0}]
[]
[null,null,null,"洋上風力","ID","名称","設備容量（MW)","年間発電電力量（MWh/年)","備考"]
[null,null,null,null,1]
[null,null,null,null,2]
[null,null,null,null,3]
[null,null,null,"【戻る】",4]
[null,null,null,null,5]
[null,null,null,"※【戻る】をクリックすると「検討シート（目標年度1）：P1」に戻ります。","合計",null,{"$f":"SUM(G293:G297)","v":0},{"$f":"SUM(H293:H297)","v":0}]
[]
[null,null,null,"中小水力","ID","名称","設備容量（MW)","年間発電電力量（MWh/年)","備考"]
[null,null,null,null,1]
[null,null,null,null,2]
[null,null,null,null,3]
[null,null,null,"【戻る】",4]
[null,null,null,null,5]
[null,null,null,"※【戻る】をクリックすると「検討シート（目標年度1）：P1」に戻ります。","合計",null,{"$f":"SUM(G301:G305)","v":0},{"$f":"SUM(H301:H305)","v":0}]
[]
[null,null,null,"バイオマス","ID","名称","設備容量（MW)","年間発電電力量（MWh/年)","備考"]
[null,null,null,null,1]
[null,null,null,null,2]
[null,null,null,null,3]
[null,null,null,"【戻る】",4]
[null,null,null,null,5]
[null,null,null,"※【戻る】をクリックすると「検討シート（目標年度1）：P1」に戻ります。","合計",null,{"$f":"SUM(G309:G313)","v":0},{"$f":"SUM(H309:H313)","v":0}]
[]
[null,null,null,"地熱","ID","名称","設備容量（MW)","年間発電電力量（MWh/年)","備考"]
[null,null,null,null,1]
[null,null,null,null,2]
[null,null,null,null,3]
[null,null,null,"【戻る】",4]
[null,null,null,null,5]
[null,null,null,"※【戻る】をクリックすると「検討シート（目標年度1）：P1」に戻ります。","合計",null,{"$f":"SUM(G317:G321)","v":0},{"$f":"SUM(H317:H321)","v":0}]
[]
[null,null,null,null,null,null,null,null,null,null,null,"検討シート（目標年度1）：P5"]
[]
[null,null,null,"メモ欄"]
[]
[null,null,null,"・「検討シート（目標年度1）：P3～P5」に入力した導入見込み量の関連情報を記録するなど、必要に応じてご利用ください。"]
[]
[]
[]
[]
[]
[]
[]
[]
[]
[]
[]
[]
[]
[]
[]
[]
[]
[]
[]
[]
[]
[]
[]
[]
[]
[]
[]
[]
[]
[]
[]
[]
[]
[]
[]
[]
[]
[]
[]
[]
[]
[]
[]
[]
[]
[]
[]
[]
[]
[]
[]
[]
[]
[]
[]
[]
[]
[]
[]
[]
[null,null,null,null,null,null,null,null,null,null,null,"検討シート（目標年度1）：P6"]

{"sheet":"検討シート（目標年度2）","index":3,"n_rows":389,"n_cols":22,"rows_kept":389,"cut":false,"hidden":false,"merged":[[325,3,326,13],[325,17,325,26],[388,11,388,14],[319,3,320,3],[319,8,319,13],[320,8,320,13],[321,4,321,5],[321,8,321,13],[323,11,323,14],[311,3,312,3],[311,8,311,13],[312,8,312,13],[313,4,313,5],[313,8,313,13],[315,3,318,3],[315,8,315,13],[316,8,316,13],[317,8,317,13],[318,8,318,13],[303,3,304,3],[303,8,303,13],[304,8,304,13],[305,4,305,5],[305,8,305,13],[307,3,310,3],[307,8,307,13],[308,8,308,13],[309,8,309,13],[310,8,310,13],[295,3,296,3],[295,8,295,13],[296,8,296,13],[297,4,297,5],[297,8,297,13],[299,3,302,3],[299,8,299,13],[300,8,300,13],[301,8,301,13],[302,8,302,13],[287,3,288,3],[287,8,287,13],[288,8,288,13],[289,4,289,5],[289,8,289,13],[291,3,294,3],[291,8,291,13],[292,8,292,13],[293,8,293,13],[294,8,294,13],[279,3,280,3],[279,8,279,13],[280,8,280,13],[281,4,281,5],[281,8,281,13],[283,3,286,3],[283,8,283,13],[284,8,284,13],[285,8,285,13],[286,8,286,13],[271,3,272,3],[271,8,271,13],[272,8,272,13],[273,4,273,5],[273,8,273,13],[275,3,278,3],[275,8,275,13],[276,8,276,13],[277,8,277,13],[278,8,278,13],[261,3,262,13],[261,17,261,26],[263,3,265,13],[267,3,270,3],[267,8,267,13],[268,8,268,13],[269,8,269,13],[270,8,270,13],[255,3,256,3],[255,8,255,13],[256,8,256,13],[257,4,257,5],[257,8,257,13],[259,11,259,14],[247,3,248,3],[247,8,247,13],[248,8,248,13],[249,4,249,5],[249,8,249,13],[251,3,254,3],[251,8,251,13],[252,8,252,13],[253,8,253,13],[254,8,254,13],[239,3,240,3],[239,8,239,13],[240,8,240,13],[241,4,241,5],[241,8,241,13],[243,3,246,3],[243,8,243,13],[244,8,244,13],[245,8,245,13],[246,8,246,13],[231,3,232,3],[231,8,231,13],[232,8,232,13],[233,4,233,5],[233,8,233,13],[235,3,238,3],[235,8,235,13],[236,8,236,13],[237,8,237,13],[238,8,238,13],[223,3,224,3],[223,8,223,13],[224,8,224,13],[225,4,225,5],[225,8,225,13],[227,3,230,3],[227,8,227,13],[228,8,228,13],[229,8,229,13],[230,8,230,13],[215,3,216,3],[215,8,215,13],[216,8,216,13],[217,4,217,5],[217,8,217,13],[219,3,222,3],[219,8,219,13],[220,8,220,13],[221,8,221,13],[222,8,222,13],[207,3,208,3],[207,8,207,13],[208,8,208,13],[209,4,209,5],[209,8,209,13],[211,3,214,3],[211,8,211,13],[212,8,212,13],[213,8,213,13],[214,8,214,13],[199,3,201,13],[203,3,206,3],[203,8,203,13],[204,8,204,13],[205,8,205,13],[206,8,206,13],[191,3,192,3],[191,8,191,13],[192,8,192,13],[193,4,193,5],[193,8,193,13],[195,11,195,14],[185,4,185,5],[185,8,185,13],[187,3,190,3],[187,8,187,13],[188,8,188,13],[189,8,189,13],[190,8,190,13],[197,3,198,13],[197,17,197,26],[177,4,177,5],[177,8,177,13],[179,3,182,3],[179,8,179,13],[180,8,180,13],[181,8,181,13],[182,8,182,13],[183,3,184,3],[183,8,183,13],[184,8,184,13],[169,4,169,5],[169,8,169,13],[171,3,174,3],[171,8,171,13],[172,8,172,13],[173,8,173,13],[174,8,174,13],[175,3,176,3],[175,8,175,13],[176,8,176,13],[161,4,161,5],[161,8,161,13],[163,3,166,3],[163,8,163,13],[164,8,164,13],[165,8,165,13],[166,8,166,13],[167,3,168,3],[167,8,167,13],[168,8,168,13],[153,4,153,5],[153,8,153,13],[155,3,158,3],[155,8,155,13],[156,8,156,13],[157,8,157,13],[158,8,158,13],[159,3,160,3],[159,8,159,13],[160,8,160,13],[145,4,145,5],[145,8,145,13],[147,3,150,3],[147,8,147,13],[148,8,148,13],[149,8,149,13],[150,8,150,13],[151,3,152,3],[151,8,151,13],[152,8,152,13],[131,11,131,14],[133,3,134,13],[135,3,137,13],[139,3,142,3],[139,8,139,13],[140,8,140,13],[141,8,141,13],[142,8,142,13],[143,3,144,3],[143,8,143,13],[144,8,144,13],[118,10,119,10],[118,11,119,11],[118,12,119,12],[121,3,129,3],[121,9,129,9],[128,4,129,4],[128,5,129,5],[128,6,129,6],[128,7,129,7],[128,10,129,10],[111,3,119,3],[111,9,119,9],[118,4,119,4],[118,5,119,5],[118,6,119,6],[118,7,119,7],[128,11,129,11],[128,12,129,12],[101,3,109,3],[101,9,109,9],[108,4,109,4],[108,5,109,5],[108,6,109,6],[108,7,109,7],[108,10,109,10],[108,11,109,11],[108,12,109,12],[91,3,99,3],[91,9,99,9],[98,4,99,4],[98,5,99,5],[98,6,99,6],[98,7,99,7],[98,10,99,10],[98,11,99,11],[98,12,99,12],[84,3,84,13],[86,3,86,7],[86,9,86,12],[87,3,89,3],[87,4,89,4],[87,5,89,5],[87,6,89,6],[87,7,89,7],[87,9,89,9],[80,3,82,4],[80,5,82,5],[80,8,82,8],[80,9,82,9],[80,10,82,10],[81,6,82,6],[81,7,82,7],[81,11,82,11],[81,12,82,12],[76,3,78,4],[76,5,78,5],[76,8,78,8],[76,9,78,9],[76,10,78,10],[77,6,78,6],[77,7,78,7],[77,11,78,11],[77,12,78,12],[68,11,68,14],[70,3,70,13],[72,3,74,4],[72,5,74,5],[72,8,74,8],[72,9,74,9],[72,10,74,10],[73,6,74,6],[73,7,74,7],[73,11,74,11],[73,12,74,12],[18,8,18,9],[19,8,19,9],[21,3,23,4],[21,8,23,13],[22,5,23,5],[22,6,23,6],[25,3,25,13],[27,3,29,3],[27,4,29,4],[27,5,29,5],[27,6,29,6],[27,7,29,7],[27,9,62,13],[31,3,33,3],[34,3,35,3],[40,3,42,3],[43,3,44,3],[49,3,51,3],[52,3,53,3],[58,3,65,3],[63,9,64,13],[65,9,66,13],[66,3,66,7],[1,2,1,11],[1,12,2,14],[2,8,2,10],[3,8,3,10],[6,3,7,13],[9,3,9,13],[11,3,13,4],[11,6,19,6],[11,8,11,9],[11,10,19,11],[11,12,11,13],[12,5,13,5],[12,8,12,9],[12,12,13,13],[13,8,13,9],[14,3,16,4],[14,8,14,9],[14,12,19,13],[15,5,16,5],[15,8,15,9],[16,8,16,9],[17,3,19,4],[17,8,17,9],[18,5,19,5]]}
[]
[null,null,"■再エネ目標設定支援ツール　　検討シート（目標年度2）"]
[null,null,null,"都道府県コード",{"$f":"現状シート!E3","v":0},"都道府県名",{"$f":"現状シート!G3","v":0},null,"※自治体再エネ情報カルテ引用値"]
[null,null,null,"市町村コード",{"$f":"現状シート!E4","v":0},"市町村名",{"$f":"現状シート!G4","v":0},null,"※ユーザー設定セル"]
[]
[]
[null,null,null,"２．目標の検討（目標年度2）"]
[]
[]
[null,null,null,"★ステップ1  目標検討のための前提条件の設定　（※目標年度を設定してください。その他の設定値はデフォルト値のままでも検討を進めることができます。）"]
[]
[null,null,null,"設定①目標年度 【設定２－１】\n※目標検討を行う年度を設定してください。",null,"目標年度（年）","設定④設備利用率\n【設定２－４】\n※エネルギー種ごとの設備利用率を設定してください。\n※デフォルト値は「自治体排出量カルテ　別紙」に記載の設備利用率です。（詳細は右下の注釈をご確認ください。）","エネルギー種","設備利用率(-)",null,"設定⑤排出係数　\n【設定２－５】\n※温室効果ガス（二酸化炭素）排出量の算定のための排出係数を設定してください。\n※デフォルト値は「電気事業者別排出係数(特定排出者の温室効果ガス排出量算定用)－R３年度実績－」の全国平均係数です。\n\n【参考】電気事業者別排出係数関連ページ\n（https://ghg-santeikohyo.env.go.jp/calc/denki）",null,"排出係数 (t-CO2/kWh)"]
[null,null,null,null,null,null,null,"太陽光発電(10kW未満)",0.13700000000000001,null,null,null,4.35E-4]
[null,null,null,null,null,null,null,"太陽光発電(10kW以上)",0.151]
[null,null,null,"設定②目標年度の電気使用量 【設定２－２】\n※目標年度の電気使用量を設定してください。\n※デフォルト値は現状の電気使用量です。",null,"電気使用量（MWh/年）",null,"陸上風力発電",0.248]
[null,null,null,null,null,{"$f":"現状シート!G11","v":0},null,"洋上風力発電",0.248]
[null,null,null,null,null,null,null,"中小水力発電",0.6]
[null,null,null,"設定③参考 目標年度の二酸化炭素排出量 【設定２－３】\n※目標年度の二酸化炭素排出量を設定してください。\n※デフォルト値は現状の二酸化炭素排出量（※単位は「t/年」）です。　",null,"二酸化炭素排出量（t/年）",null,"バイオマス発電",0.8]
[null,null,null,null,null,{"$f":"現状シート!G43*1000","v":0},null,"地熱発電",0.8]
[null,null,null,null,null,null,null,"-","-"]
[]
[null,null,null,"（参考）現状の導入ポテンシャル（合計）",null,"設備容量（MW）","年間発電電力量（MWh/年）",null,"注）設備利用率について\n「自治体排出量カルテ」に記載の発電電力量は、調達価格等算定委員会「調達価格等に関する意見」の設備利用率（平成28年度）等から推計されています。なお、本ツールにおいては、同資料に記載の「太陽光発電（10kW未満）」の設備利用率を「太陽光（建物系）」に、「太陽光（10kW以上）」の設備利用率を「太陽光（土地系）」に適用する設計としております。設備利用率は実際には地域差等があることから、推計値は実際の発電電力量とは一致しません。目安としてご活用ください。"]
[null,null,null,null,null,{"$f":"現状シート!F21","v":0},{"$f":"現状シート!G21","v":0}]
[]
[]
[null,null,null,"★ステップ２　導入見込み量の設定　（※任意の導入見込み量を設定してください。未設定のままでも検討を進めることができます。）"]
[]
[null,null,null,"入力項目","再エネ区分","設備容量\n（MW)","再エネによる\n年間発電電力量\n（MWh/年)","（参考）\n年間二酸化炭素削減量\n（t-CO2/年）※",null,null,null,null,null,null,null,null,null,"電力ベース"]
[]
[null,null,null,null,null,null,null,null,null,null,null,null,null,null,null,null,null,"項目","現状","途中計算1\n（現状+導入見込み量①）","途中計算2\n（現状+導入見込み量①②）","検討結果\n（目標年度合計）"]
[null,null,null,null,null,null,null,null,null,null,null,null,null,null,null,null,null,"太陽光（建物系）",{"$f":"G92","v":0},{"$f":"G102","v":0},{"$f":"G112","v":0},{"$f":"G122","v":0}]
[null,null,null,"導入見込み量①\n　既存計画により見込まれる導入量","太陽光（建物系）",{"$f":"G146","v":0},{"$f":"IFERROR(F32*I13*8760,\"\")","v":0},{"$f":"G32*$M$13*1000","v":0},null,null,null,null,null,null,null,null,null,"太陽光（土地系）",0,0,0,0]
[null,null,null,null,"太陽光（土地系）",{"$f":"G154","v":0},0,{"$f":"G33*$M$13*1000","v":0},null,null,null,null,null,null,null,null,null,"陸上風力",0,0,0,0]
[null,null,null,null,"陸上風力",{"$f":"G162","v":0},0,0,null,null,null,null,null,null,null,null,null,"洋上風力",0,0,0,0]
[null,null,null,"【設定２－６】（→設定欄に移動）","洋上風力",{"$f":"G170","v":0},0,0,null,null,null,null,null,null,null,null,null,"中小水力",0,0,0,0]
[null,null,null,null,"中小水力",{"$f":"G178","v":0},0,0,null,null,null,null,null,null,null,null,null,"バイオマス",0,0,0,0]
[null,null,null,"※【設定２－６】をクリックすると設定欄に移動します。","バイオマス",{"$f":"G186","v":0},0,0,null,null,null,null,null,null,null,null,null,"地熱",0,0,0,0]
[null,null,null,"※設定欄に入力した値が右表とグラフに反映されます。","地熱",{"$f":"G194","v":0},0,0]
[null,null,null,null,"合計",{"$f":"IFERROR(SUM(F32:F38),\"\")","v":0},{"$f":"IFERROR(SUM(G32:G38),\"\")","v":0},{"$f":"IFERROR(SUM(H32:H38),\"\")","v":0}]
[]
[null,null,null,"導入見込み量②\n　促進区域の設定等により見込まれる導入量","太陽光（建物系）",{"$f":"G210","v":0},{"$f":"IFERROR(F41*I13*8760,\"\")","v":0},{"$f":"G41*$M$13*1000","v":0}]
[null,null,null,null,"太陽光（土地系）",{"$f":"G218","v":0},0,{"$f":"G42*$M$13*1000","v":0}]
[null,null,null,null,"陸上風力",{"$f":"G226","v":0},0,0]
[null,null,null,"【設定２－７】（→設定欄に移動）","洋上風力",{"$f":"G234","v":0},0,0]
[null,null,null,null,"中小水力",{"$f":"G242","v":0},0,0]
[null,null,null,"※【設定２－７】をクリックすると設定欄に移動します。","バイオマス",{"$f":"G250","v":0},0,0]
[null,null,null,"※設定欄に入力した値が右表とグラフに反映されます。","地熱",{"$f":"G258","v":0},0,0]
[null,null,null,null,"合計",{"$f":"IFERROR(SUM(F41:F47),\"\")","v":0},{"$f":"IFERROR(SUM(G41:G47),\"\")","v":0},{"$f":"IFERROR(SUM(H41:H47),\"\")","v":0}]
[]
[null,null,null,"導入見込み量③\n　上記以外により見込まれる導入量","太陽光（建物系）",{"$f":"G274","v":0},{"$f":"IFERROR(F50*I13*8760,\"\")","v":0},{"$f":"G50*$M$13*1000","v":0}]
[null,null,null,null,"太陽光（土地系）",{"$f":"G282","v":0},0,{"$f":"G51*$M$13*1000","v":0}]
[null,null,null,null,"陸上風力",{"$f":"G290","v":0},0,0]
[null,null,null,"【設定２－８】（→設定欄に移動）","洋上風力",{"$f":"G298","v":0},0,0]
[null,null,null,null,"中小水力",{"$f":"G306","v":0},0,0]
[null,null,null,"※【設定２－８】をクリックすると設定欄に移動します。","バイオマス",{"$f":"G314","v":0},0,0]
[null,null,null,"※設定欄に入力した値が右表とグラフに反映されます。","地熱",{"$f":"G322","v":0},0,0]
[null,null,null,null,"合計",{"$f":"IFERROR(SUM(F50:F56),\"\")","v":0},{"$f":"IFERROR(SUM(G50:G56),\"\")","v":0},{"$f":"IFERROR(SUM(H50:H56),\"\")","v":0}]
[]
[null,null,null,"導入見込み量合計\n=  導入見込み量①\n　+導入見込み量②\n　+導入見込み量③","太陽光（建物系）",{"$f":"F32+F41+F50","v":0},0,{"$f":"G59*$M$13*1000","v":0}]
[null,null,null,null,"太陽光（土地系）",0,{"$f":"G33+G42+G51","v":0},{"$f":"G60*$M$13*1000","v":0}]
[null,null,null,null,"陸上風力",0,0,0]
[null,null,null,null,"洋上風力",0,0,0]
[null,null,null,null,"中小水力",0,0,0]
[null,null,null,null,"バイオマス",0,0,0]
[null,null,null,null,"地熱",0,0,0]
[null,null,null,null,"合計",0,0,{"$f":"H39+H48+H57","v":0},null,"図２－１　年間発電電力量の比較\n（現状の再エネ導入実績、検討結果　※P2-3に示す合計値を表示）"]
[null,null,null,"※「（参考）年間二酸化炭素削減量」は、再生可能エネルギーによって発電された電力が区域内で全て消費されると仮定した場合に想定される二酸化炭素の削減量を示しています。"]
[]
[null,null,null,null,null,null,null,null,null,null,null,"検討シート（目標年度2）：P1"]
[]
[null,null,null,"★ステップ３　参考指標を踏まえた「目標とする値」の設定　（※目標として（目標検討の目安として）想定する参考指標について、任意の比率を設定してください。デフォルト値のままでも検討を進めることができます。）"]
[]
[null,null,null,"参考指標１　「目標年度の電気使用量」に基づく目標値\n※「目標年度の電気使用量」（設定②）に占める「目標年度の再エネ導入量」（検討結果③）の比率を設定してください。デフォルト値は100%です。",null,"目標とする値\n【設定２－９】","目標とする再エネ導入量の比率","年間発電電力量（MWh/年）","達成\n状況",{"$f":"IF(OR(F16=\"\",G74=\"\"),\"条件未設定\",IF(K129<1,\"未達\",\"達成\"))","v":"未達"},"目標とする値との差分","比率","年間発電電力量（MWh/年）"]
[null,null,null,null,null,null,1,{"$f":"IF(OR(F16=\"\",G74=\"\"),\"条件未設定\",F16*G74)","v":0},null,null,null,{"$f":"IF(OR(F16=\"\",G74=\"\"),\"条件未設定\",K129-1)","v":-1},{"$f":"IF(OR(F16=\"\",G74=\"\"),\"条件未設定\",G129-H74)","v":0}]
[]
[]
[null,null,null,"参考指標２　「現状の導入ポテンシャル」に基づく目標値\n※「（参考）現状の導入ポテンシャル（合計）（年間発電電力量）」に占める「目標年度の再エネ導入量」（検討結果③）の比率を設定してください。デフォルト値は100%です。",null,"目標とする値\n【設定２－１０】","目標とする再エネ導入量の比率","年間発電電力量（MWh/年）","達成\n状況",{"$f":"IF(G78=\"\",\"条件未設定\",IF(L129<1,\"未達\",\"達成\"))","v":"未達"},"目標とする値との差分","比率","年間発電電力量（MWh/年）"]
[null,null,null,null,null,null,1,{"$f":"IF(G78=\"\",\"条件未設定\",G23*G78)","v":0},null,null,null,{"$f":"IF(G78=\"\",\"条件未設定\",L129-1)","v":-1},{"$f":"IF(G78=\"\",\"条件未設定\",G129-H78)","v":0}]
[]
[]
[null,null,null,"参考指標３　二酸化炭素削減率に基づく目標値（参考）\n※「目標年度の二酸化炭素排出量」（設定③）に対する「目標年度の再エネ導入量」（検討結果③）による二酸化炭素削減量の比率を設定してください。デフォルト値は100%です。",null,"目標とする値\n【設定２－１１】","目標とするCO2削減率","年間CO2削減量（t-CO2/年)","達成\n状況",{"$f":"IF(OR(F19=\"\",G82=\"\"),\"条件未設定\",IF(M129<1,\"未達\",\"達成\"))","v":"未達"},"目標とする値との差分","比率","年間CO2削減量（t-CO2/年)"]
[null,null,null,null,null,null,1,{"$f":"IF(OR(F19=\"\",G82=\"\"),\"条件未設定\",F19*G82)","v":0},null,null,null,{"$f":"IF(OR(F19=\"\",G82=\"\"),\"条件未設定\",M129-1)","v":-1},{"$f":"IF(OR(F19=\"\",G82=\"\"),\"条件未設定\",H129-H82)","v":0}]
[]
[null,null,null,"※「（参考）年間二酸化炭素削減量」は、再生可能エネルギーによって発電された電力が区域内で全て消費されると仮定した場合に想定される二酸化炭素の削減量を示しています。"]
[null,null,null,"★ステップ４　検討結果の確認　（※ステップ2及びステップ3の入力・設定内容の結果が表示されています。ステップ4を参照して、ステップ2及びステップ3の設定を調整してください。）"]
[]
[null,null,null,"検討結果",null,null,null,null,null,"検討結果の評価"]
[null,null,null,"項目","再エネ区分","再エネ\n設備容量\n（MW)","再エネによる\n年間発電電力量\n（MWh/年)","（参考）再エネによる\n年間二酸化炭素削減量\n（t-CO2/年）※",null,"項目","参考指標1（年間発電電力量）","参考指標2（年間発電電力量）","参考指標3（年間CO2削減量）"]
[null,null,null,null,null,null,null,null,null,null,"に対する","に対する","に対する"]
[null,null,null,null,null,null,null,null,null,null,"再エネによる年間発電電力量の割合","再エネによる年間発電電力量の割合","再エネによる年間二酸化炭素削減量の割合"]
[]
[null,null,null,"【現状】現状の再エネ導入実績","太陽光（建物系）",{"$f":"現状シート!F24","v":0},{"$f":"現状シート!G24","v":0},{"$f":"G92*$M$13*1000","v":0},null,"評価⓪",{"$f":"IFERROR(G92/$H$74,\"条件未設定\")","v":"条件未設定"},{"$f":"IFERROR((G92/$H$78),\"条件未設定\")","v":"条件未設定"},{"$f":"IFERROR((H92/$H$82),\"条件未設定\")","v":"条件未設定"}]
[null,null,null,null,"太陽光（土地系）",{"$f":"現状シート!F25","v":0},{"$f":"現状シート!G25","v":0},{"$f":"G93*$M$13*1000","v":0},null,null,{"$f":"IFERROR(G93/$H$74,\"条件未設定\")","v":"条件未設定"},{"$f":"IFERROR((G93/$H$78),\"条件未設定\")","v":"条件未設定"},{"$f":"IFERROR((H93/$H$82),\"条件未設定\")","v":"条件未設定"}]
[null,null,null,null,"陸上風力",{"$f":"現状シート!F26","v":0},{"$f":"現状シート!G26","v":0},0,null,null,{"$f":"IFERROR(G94/$H$74,\"条件未設定\")","v":"条件未設定"},"条件未設定","条件未設定"]
[null,null,null,null,"洋上風力",{"$f":"現状シート!F27","v":0},{"$f":"現状シート!G27","v":0},0,null,null,{"$f":"IFERROR(G95/$H$74,\"条件未設定\")","v":"条件未設定"},"条件未設定","条件未設定"]
[null,null,null,null,"中小水力",{"$f":"現状シート!F28","v":0},{"$f":"現状シート!G28","v":0},0,null,null,{"$f":"IFERROR(G96/$H$74,\"条件未設定\")","v":"条件未設定"},"条件未設定","条件未設定"]
[null,null,null,null,"バイオマス",{"$f":"現状シート!F29","v":0},{"$f":"現状シート!G29","v":0},0,null,null,{"$f":"IFERROR(G97/$H$74,\"条件未設定\")","v":"条件未設定"},"条件未設定","条件未設定"]
[null,null,null,null,"地熱",{"$f":"現状シート!F30","v":0},{"$f":"現状シート!G30","v":0},0,null,null,"条件未設定","条件未設定","条件未設定"]
[null,null,null,null,"合計",{"$f":"SUM(F92:F98)","v":0},{"$f":"SUM(G92:G98)","v":0},{"$f":"SUM(H92:H98)","v":0},null,null,{"$f":"IFERROR(SUM(K92:K98),\"条件未設定\")","v":0},{"$f":"SUM(L92:L98)","v":0},0]
[]
[]
[null,null,null,"途中計算１\n=現状の再エネ導入実績\n　+導入見込み量①","太陽光（建物系）",{"$f":"F92+F32","v":0},0,0,null,"評価①",{"$f":"IFERROR(G102/$H$74,\"条件未設定\")","v":"条件未設定"},{"$f":"IFERROR((G102/$H$78),\"条件未設定\")","v":"条件未設定"},{"$f":"IFERROR((H102/$H$82),\"条件未設定\")","v":"条件未設定"}]
[null,null,null,null,"太陽光（土地系）",0,0,0,null,null,"条件未設定","条件未設定","条件未設定"]
[null,null,null,null,"陸上風力",0,0,0,null,null,"条件未設定","条件未設定","条件未設定"]
[null,null,null,null,"洋上風力",0,0,0,null,null,"条件未設定","条件未設定","条件未設定"]
[null,null,null,null,"中小水力",0,0,0,null,null,"条件未設定","条件未設定","条件未設定"]
[null,null,null,null,"バイオマス",0,0,0,null,null,"条件未設定","条件未設定","条件未設定"]
[null,null,null,null,"地熱",0,0,0,null,null,{"$f":"IFERROR(G108/$H$74,\"条件未設定\")","v":"条件未設定"},"条件未設定","条件未設定"]
[null,null,null,null,"合計",{"$f":"SUM(F102:F108)","v":0},{"$f":"SUM(G102:G108)","v":0},{"$f":"SUM(H102:H108)","v":0},null,null,{"$f":"SUM(K102:K108)","v":0},0,0]
[]
[]
[null,null,null,"途中計算２\n=現状の再エネ導入実績\n　+導入見込み量①\n　+導入見込み量②","太陽光（建物系）",{"$f":"F102+F41","v":0},0,0,null,"評価②",{"$f":"IFERROR(G112/$H$74,\"条件未設定\")","v":"条件未設定"},{"$f":"IFERROR((G112/$H$78),\"条件未設定\")","v":"条件未設定"},{"$f":"IFERROR((H112/$H$82),\"条件未設定\")","v":"条件未設定"}]
[null,null,null,null,"太陽光（土地系）",0,0,0,null,null,"条件未設定","条件未設定","条件未設定"]
[null,null,null,null,"陸上風力",0,0,0,null,null,"条件未設定","条件未設定","条件未設定"]
[null,null,null,null,"洋上風力",0,0,0,null,null,"条件未設定","条件未設定","条件未設定"]
[null,null,null,null,"中小水力",0,0,0,null,null,"条件未設定","条件未設定","条件未設定"]
[null,null,null,null,"バイオマス",0,0,0,null,null,"条件未設定","条件未設定","条件未設定"]
[null,null,null,null,"地熱",0,0,0,null,null,"条件未設定","条件未設定","条件未設定"]
[null,null,null,null,"合計",{"$f":"SUM(F112:F118)","v":0},{"$f":"SUM(G112:G118)","v":0},{"$f":"SUM(H112:H118)","v":0},null,null,{"$f":"SUM(K112:K118)","v":0},0,0]
[]
[]
[null,null,null,"【検討結果】目標年度の再エネ導入量\n=現状の再エネ導入実績\n　+導入見込み量①\n　+導入見込み量②\n　+導入見込み量③","太陽光（建物系）",{"$f":"F112+F50","v":0},0,0,null,"評価③",{"$f":"IFERROR(G122/$H$74,\"条件未設定\")","v":"条件未設定"},{"$f":"IFERROR((G122/$H$78),\"条件未設定\")","v":"条件未設定"},{"$f":"IFERROR((H122/$H$82),\"条件未設定\")","v":"条件未設定"}]
[null,null,null,null,"太陽光（土地系）",0,0,0,null,null,"条件未設定","条件未設定","条件未設定"]
[null,null,null,null,"陸上風力",0,0,0,null,null,"条件未設定","条件未設定","条件未設定"]
[null,null,null,null,"洋上風力",0,0,0,null,null,"条件未設定","条件未設定","条件未設定"]
[null,null,null,null,"中小水力",0,0,0,null,null,"条件未設定","条件未設定","条件未設定"]
[null,null,null,null,"バイオマス",0,0,0,null,null,"条件未設定","条件未設定","条件未設定"]
[null,null,null,null,"地熱",0,0,0,null,null,"条件未設定","条件未設定","条件未設定"]
[null,null,null,null,"合計",{"$f":"SUM(F122:F128)","v":0},{"$f":"SUM(G122:G128)","v":0},{"$f":"SUM(H122:H128)","v":0},null,null,{"$f":"SUM(K122:K128)","v":0},{"$f":"SUM(L122:L128)","v":0},{"$f":"SUM(M122:M128)","v":0}]
[]
[null,null,null,"※「（参考）年間二酸化炭素削減量」は、再生可能エネルギーによって発電された電力が区域内で全て消費されると仮定した場合に想定される二酸化炭素の削減量を示しています。"]
[null,null,null,null,null,null,null,null,null,null,null,"検討シート（目標年度2）：P2"]
[]
[null,null,null,"設定欄【設定２－６】　導入見込み量①既存計画により見込まれる導入量"]
[]
[null,null,null,"・エネルギー種別に、既存計画により見込まれる再エネの導入量の「設備容量」を「MW単位」で入力ください。行が足りない場合は、適宜追加してください。\n・入力された「設備容量」は、エネルギー種別の合計値が、「検討シート（目標年度2）：P1　導入見込み量①」の「設備容量」欄に反映されます。\n・入力された「年間発電電力量」は、「検討シート（目標年度2）：P1　導入見込み量①」には反映されません。情報をお持ちの場合に参考として入力ください。"]
[]
[]
[]
[null,null,null,"太陽光（建物系）","ID","名称","設備容量（MW)","年間発電電力量（MWh/年)","備考"]
[null,null,null,null,1]
[null,null,null,null,2]
[null,null,null,null,3]
[null,null,null,"【戻る】",4]
[null,null,null,null,5]
[null,null,null,"※【戻る】をクリックすると「検討シート（目標年度2）：P1」に戻ります。","合計",null,{"$f":"SUM(G141:G145)","v":0},{"$f":"SUM(H141:H145)","v":0}]
[]
[null,null,null,"太陽光（土地系）","ID","名称","設備容量（MW)","年間発電電力量（MWh/年)","備考"]
[null,null,null,null,1]
[null,null,null,null,2]
[null,null,null,null,3]
[null,null,null,"【戻る】",4]
[null,null,null,null,5]
[null,null,null,"※【戻る】をクリックすると「検討シート（目標年度2）：P1」に戻ります。","合計",null,{"$f":"SUM(G149:G153)","v":0},{"$f":"SUM(H149:H153)","v":0}]
[]
[null,null,null,"陸上風力","ID","名称","設備容量（MW)","年間発電電力量（MWh/年)","備考"]
[null,null,null,null,1]
[null,null,null,null,2]
[null,null,null,null,3]
[null,null,null,"【戻る】",4]
[null,null,null,null,5]
[null,null,null,"※【戻る】をクリックすると「検討シート（目標年度2）：P1」に戻ります。","合計",null,{"$f":"SUM(G157:G161)","v":0},{"$f":"SUM(H157:H161)","v":0}]
[]
[null,null,null,"洋上風力","ID","名称","設備容量（MW)","年間発電電力量（MWh/年)","備考"]
[null,null,null,null,1]
[null,null,null,null,2]
[null,null,null,null,3]
[null,null,null,"【戻る】",4]
[null,null,null,null,5]
[null,null,null,"※【戻る】をクリックすると「検討シート（目標年度2）：P1」に戻ります。","合計",null,{"$f":"SUM(G165:G169)","v":0},{"$f":"SUM(H165:H169)","v":0}]
[]
[null,null,null,"中小水力","ID","名称","設備容量（MW)","年間発電電力量（MWh/年)","備考"]
[null,null,null,null,1]
[null,null,null,null,2]
[null,null,null,null,3]
[null,null,null,"【戻る】",4]
[null,null,null,null,5]
[null,null,null,"※【戻る】をクリックすると「検討シート（目標年度2）：P1」に戻ります。","合計",null,{"$f":"SUM(G173:G177)","v":0},{"$f":"SUM(H173:H177)","v":0}]
[]
[null,null,null,"バイオマス","ID","名称","設備容量（MW)","年間発電電力量（MWh/年)","備考"]
[null,null,null,null,1]
[null,null,null,null,2]
[null,null,null,null,3]
[null,null,null,"【戻る】",4]
[null,null,null,null,5]
[null,null,null,"※【戻る】をクリックすると「検討シート（目標年度2）：P1」に戻ります。","合計",null,{"$f":"SUM(G181:G185)","v":0},{"$f":"SUM(H181:H185)","v":0}]
[]
[null,null,null,"地熱","ID","名称","設備容量（MW)","年間発電電力量（MWh/年)","備考"]
[null,null,null,null,1]
[null,null,null,null,2]
[null,null,null,null,3]
[null,null,null,"【戻る】",4]
[null,null,null,null,5]
[null,null,null,"※【戻る】をクリックすると「検討シート（目標年度2）：P1」に戻ります。","合計",null,{"$f":"SUM(G189:G193)","v":0},{"$f":"SUM(H189:H193)","v":0}]
[]
[null,null,null,null,null,null,null,null,null,null,null,"検討シート（目標年度2）：P3"]
[]
[null,null,null,"設定欄【設定２－７】　導入見込み量②促進区域の設定等により見込まれる導入量"]
[]
[null,null,null,"・エネルギー種別に、促進区域の設定等により見込まれる再エネの導入量の「設備容量」を「MW単位」で入力ください。行が足りない場合は、適宜追加してください。\n・太陽光（建物系、土地系）、陸上風力については、REPOSで提供する「促進区域検討支援ツール」によって得られる検討結果を入力することも想定されます。\n・入力された「設備容量」は、エネルギー種別の合計値が、「検討シート（目標年度2）：P1　導入見込み量②」に反映されます。入力された「年間発電電力量」は同シートには反映されません。情報をお持ちの場合に参考として入力ください。"]
[]
[]
[]
[null,null,null,"太陽光（建物系）","ID","名称","設備容量（MW)","年間発電電力量（MWh/年)","備考"]
[null,null,null,null,1]
[null,null,null,null,2]
[null,null,null,null,3]
[null,null,null,"【戻る】",4]
[null,null,null,null,5]
[null,null,null,"※【戻る】をクリックすると「検討シート（目標年度2）：P1」に戻ります。","合計",null,{"$f":"SUM(G205:G209)","v":0},{"$f":"SUM(H205:H209)","v":0}]
[]
[null,null,null,"太陽光（土地系）","ID","名称","設備容量（MW)","年間発電電力量（MWh/年)","備考"]
[null,null,null,null,1]
[null,null,null,null,2]
[null,null,null,null,3]
[null,null,null,"【戻る】",4]
[null,null,null,null,5]
[null,null,null,"※【戻る】をクリックすると「検討シート（目標年度2）：P1」に戻ります。","合計",null,{"$f":"SUM(G213:G217)","v":0},{"$f":"SUM(H213:H217)","v":0}]
[]
[null,null,null,"陸上風力","ID","名称","設備容量（MW)","年間発電電力量（MWh/年)","備考"]
[null,null,null,null,1]
[null,null,null,null,2]
[null,null,null,null,3]
[null,null,null,"【戻る】",4]
[null,null,null,null,5]
[null,null,null,"※【戻る】をクリックすると「検討シート（目標年度2）：P1」に戻ります。","合計",null,{"$f":"SUM(G221:G225)","v":0},{"$f":"SUM(H221:H225)","v":0}]
[]
[null,null,null,"洋上風力","ID","名称","設備容量（MW)","年間発電電力量（MWh/年)","備考"]
[null,null,null,null,1]
[null,null,null,null,2]
[null,null,null,null,3]
[null,null,null,"【戻る】",4]
[null,null,null,null,5]
[null,null,null,"※【戻る】をクリックすると「検討シート（目標年度2）：P1」に戻ります。","合計",null,{"$f":"SUM(G229:G233)","v":0},{"$f":"SUM(H229:H233)","v":0}]
[]
[null,null,null,"中小水力","ID","名称","設備容量（MW)","年間発電電力量（MWh/年)","備考"]
[null,null,null,null,1]
[null,null,null,null,2]
[null,null,null,null,3]
[null,null,null,"【戻る】",4]
[null,null,null,null,5]
[null,null,null,"※【戻る】をクリックすると「検討シート（目標年度2）：P1」に戻ります。","合計",null,{"$f":"SUM(G237:G241)","v":0},{"$f":"SUM(H237:H241)","v":0}]
[]
[null,null,null,"バイオマス","ID","名称","設備容量（MW)","年間発電電力量（MWh/年)","備考"]
[null,null,null,null,1]
[null,null,null,null,2]
[null,null,null,null,3]
[null,null,null,"【戻る】",4]
[null,null,null,null,5]
[null,null,null,"※【戻る】をクリックすると「検討シート（目標年度2）：P1」に戻ります。","合計",null,{"$f":"SUM(G245:G249)","v":0},{"$f":"SUM(H245:H249)","v":0}]
[]
[null,null,null,"地熱","ID","名称","設備容量（MW)","年間発電電力量（MWh/年)","備考"]
[null,null,null,null,1]
[null,null,null,null,2]
[null,null,null,null,3]
[null,null,null,"【戻る】",4]
[null,null,null,null,5]
[null,null,null,"※【戻る】をクリックすると「検討シート（目標年度2）：P1」に戻ります。","合計",null,{"$f":"SUM(G253:G257)","v":0},{"$f":"SUM(H253:H257)","v":0}]
[]
[null,null,null,null,null,null,null,null,null,null,null,"検討シート（目標年度2）：P4"]
[]
[null,null,null,"設定欄【設定２－８】　導入見込み量③上記以外により見込まれる導入量"]
[]
[null,null,null,"・エネルギー種別に、導入見込み量①及び②以外で見込まれる再エネの導入量の「設備容量」を「MW単位」で入力ください。行が足りない場合は、適宜追加してください。\n・入力された「設備容量」は、エネルギー種別の合計値が、「検討シート（目標年度2）：P1　導入見込み量③」の「設備容量」欄に反映されます。\n・入力された「年間発電電力量」は、「検討シート（目標年度2）：P1　導入見込み量③」には反映されません。情報をお持ちの場合に参考として入力ください。"]
[]
[]
[]
[null,null,null,"太陽光（建物系）","ID","名称","設備容量（MW)","年間発電電力量（MWh/年)","備考"]
[null,null,null,null,1]
[null,null,null,null,2]
[null,null,null,null,3]
[null,null,null,"【戻る】",4]
[null,null,null,null,5]
[null,null,null,"※【戻る】をクリックすると「検討シート（目標年度2）：P1」に戻ります。","合計",null,{"$f":"SUM(G269:G273)","v":0},{"$f":"SUM(H269:H273)","v":0}]
[]
[null,null,null,"太陽光（土地系）","ID","名称","設備容量（MW)","年間発電電力量（MWh/年)","備考"]
[null,null,null,null,1]
[null,null,null,null,2]
[null,null,null,null,3]
[null,null,null,"【戻る】",4]
[null,null,null,null,5]
[null,null,null,"※【戻る】をクリックすると「検討シート（目標年度2）：P1」に戻ります。","合計",null,{"$f":"SUM(G277:G281)","v":0},{"$f":"SUM(H277:H281)","v":0}]
[]
[null,null,null,"陸上風力","ID","名称","設備容量（MW)","年間発電電力量（MWh/年)","備考"]
[null,null,null,null,1]
[null,null,null,null,2]
[null,null,null,null,3]
[null,null,null,"【戻る】",4]
[null,null,null,null,5]
[null,null,null,"※【戻る】をクリックすると「検討シート（目標年度2）：P1」に戻ります。","合計",null,{"$f":"SUM(G285:G289)","v":0},{"$f":"SUM(H285:H289)","v":0}]
[]
[null,null,null,"洋上風力","ID","名称","設備容量（MW)","年間発電電力量（MWh/年)","備考"]
[null,null,null,null,1]
[null,null,null,null,2]
[null,null,null,null,3]
[null,null,null,"【戻る】",4]
[null,null,null,null,5]
[null,null,null,"※【戻る】をクリックすると「検討シート（目標年度2）：P1」に戻ります。","合計",null,{"$f":"SUM(G293:G297)","v":0},{"$f":"SUM(H293:H297)","v":0}]
[]
[null,null,null,"中小水力","ID","名称","設備容量（MW)","年間発電電力量（MWh/年)","備考"]
[null,null,null,null,1]
[null,null,null,null,2]
[null,null,null,null,3]
[null,null,null,"【戻る】",4]
[null,null,null,null,5]
[null,null,null,"※【戻る】をクリックすると「検討シート（目標年度2）：P1」に戻ります。","合計",null,{"$f":"SUM(G301:G305)","v":0},{"$f":"SUM(H301:H305)","v":0}]
[]
[null,null,null,"バイオマス","ID","名称","設備容量（MW)","年間発電電力量（MWh/年)","備考"]
[null,null,null,null,1]
[null,null,null,null,2]
[null,null,null,null,3]
[null,null,null,"【戻る】",4]
[null,null,null,null,5]
[null,null,null,"※【戻る】をクリックすると「検討シート（目標年度2）：P1」に戻ります。","合計",null,{"$f":"SUM(G309:G313)","v":0},{"$f":"SUM(H309:H313)","v":0}]
[]
[null,null,null,"地熱","ID","名称","設備容量（MW)","年間発電電力量（MWh/年)","備考"]
[null,null,null,null,1]
[null,null,null,null,2]
[null,null,null,null,3]
[null,null,null,"【戻る】",4]
[null,null,null,null,5]
[null,null,null,"※【戻る】をクリックすると「検討シート（目標年度2）：P1」に戻ります。","合計",null,{"$f":"SUM(G317:G321)","v":0},{"$f":"SUM(H317:H321)","v":0}]
[]
[null,null,null,null,null,null,null,null,null,null,null,"検討シート（目標年度2）：P5"]
[]
[null,null,null,"メモ欄"]
[]
[null,null,null,"・「検討シート（目標年度2）：P3～P5」に入力した導入見込み量の関連情報を記録するなど、必要に応じてご利用ください。"]
[]
[]
[]
[]
[]
[]
[]
[]
[]
[]
[]
[]
[]
[]
[]
[]
[]
[]
[]
[]
[]
[]
[]
[]
[]
[]
[]
[]
[]
[]
[]
[]
[]
[]
[]
[]
[]
[]
[]
[]
[]
[]
[]
[]
[]
[]
[]
[]
[]
[]
[]
[]
[]
[]
[]
[]
[]
[]
[]
[]
[null,null,null,null,null,null,null,null,null,null,null,"検討シート（目標年度2）：P6"]

{"sheet":"まとめシート","index":4,"n_rows":69,"n_cols":28,"rows_kept":69,"cut":false,"hidden":false,"merged":[[26,16,27,16],[23,4,23,6],[24,4,24,6],[16,9,18,9],[16,13,18,13],[34,7,35,10],[32,7,33,10],[28,7,29,10],[22,4,22,6],[26,12,27,12],[26,18,27,18],[26,11,27,11],[26,13,27,13],[26,7,27,8],[36,7,37,10],[30,7,31,10],[26,9,27,9],[26,10,27,10],[34,11,35,14],[34,15,35,18],[32,11,33,14],[36,15,37,18],[36,11,37,14],[28,11,29,14],[28,15,29,18],[30,11,31,14],[30,15,31,18],[32,15,33,18],[1,2,1,18],[11,4,14,6],[11,7,12,10],[11,11,12,14],[11,15,12,18],[2,7,2,8],[3,7,3,8],[6,3,7,19],[3,11,3,14],[2,11,2,14],[8,3,9,19],[13,15,14,18],[13,11,14,14],[2,3,2,4],[3,3,3,4],[13,7,14,10],[16,17,18,17],[26,14,27,14],[26,15,27,15],[25,7,25,8],[16,7,16,8],[17,7,18,8],[19,7,19,8],[20,7,20,8],[21,7,21,8],[22,7,22,8],[23,7,23,8],[24,7,24,8],[17,11,18,11],[17,15,18,15],[26,17,27,17],[16,3,27,3],[34,3,39,3],[34,4,35,6],[36,4,37,6],[38,4,39,6],[28,3,33,3],[28,4,29,6],[30,4,31,6],[32,4,33,6],[16,4,18,6],[19,4,19,6],[20,4,20,6],[25,4,25,6],[26,4,27,6],[21,4,21,6],[68,15,68,20],[63,3,64,19],[38,7,39,10],[38,11,39,14],[65,3,66,19],[38,15,39,18]]}
[]
[null,null,"■再エネ目標設定支援ツール　　まとめシート"]
[null,null,null,"都道府県コード",null,{"$f":"現状シート!E3","v":0},"都道府県名",{"$f":"現状シート!G3","v":0},null,null,null,"※自治体再エネ情報カルテ引用値"]
[null,null,null,"市町村コード",null,{"$f":"現状シート!E4","v":0},"市町村名",{"$f":"現状シート!G4","v":0},null,null,null,"※ユーザー設定セル"]
[]
[]
[null,null,null,"３．まとめシート"]
[]
[null,null,null,"・「現状シート」及び「検討シート」で整理及び検討した内容に基づいて、目標年度の再エネ導入量（導入目標量）と現状からの設備容量の増加率等を示しています。\n・「現状」セルには、現状の再エネ導入量を整理した時点（年）を入力ください。"]
[]
[]
[null,null,null,null,"年度",null,null,"現状",null,null,null,"目標年度１",null,null,null,"目標年度2"]
[]
[null,null,null,null,null,null,null,null,null,null,null,{"$f":"IF('検討シート（目標年度1）'!F13=\"\",\"\",'検討シート（目標年度1）'!F13)","v":""},null,null,null,{"$f":"IF('検討シート（目標年度2）'!F13=\"\",\"\",'検討シート（目標年度2）'!F13)","v":""}]
[]
[]
[null,null,null,"再エネ導入量（合計）\n（導入目標量）","再エネ区分",null,null,"設備容量",null,"年間\n発電電力量\n（MWh/年)","（参考）","設備容量",null,"年間\n発電電力量\n（MWh/年)","（参考）","設備容量",null,"年間\n発電電力量\n（MWh/年)","（参考）"]
[null,null,null,null,null,null,null,"\n（MW)",null,null,"二酸化炭素削減量※","\n（MW)","増加率",null,"二酸化炭素削減量※","\n（MW)","増加率",null,"二酸化炭素削減量※"]
[null,null,null,null,null,null,null,null,null,null,"（t-CO2/年）",null,"（目標年度1÷現状）",null,"（t-CO2/年）",null,"（目標年度2÷現状）",null,"（t-CO2/年）",null,null,null,null,null,null,"現状",{"$f":"\"目標年度1（\"&L14&\"年）\"","v":"目標年度1（年）"},{"$f":"\"目標年度2（\"&P14&\"年）\"","v":"目標年度2（年）"}]
[null,null,null,null,"太陽光（建物系）",null,null,{"$f":"'検討シート（目標年度1）'!F92","v":0},null,{"$f":"'検討シート（目標年度1）'!G92","v":0},{"$f":"'検討シート（目標年度1）'!H92","v":0},{"$f":"IF(L14=\"\",\"\",'検討シート（目標年度1）'!F122)","v":""},{"$f":"IF(L14=\"\",\"\",L20/H20)","v":""},{"$f":"IF(L14=\"\",\"\",'検討シート（目標年度1）'!G122)","v":""},{"$f":"IF(L14=\"\",\"\",'検討シート（目標年度1）'!H122)","v":""},{"$f":"IF(P14=\"\",\"\",'検討シート（目標年度2）'!F122)","v":""},{"$f":"IF(P14=\"\",\"\",P20/H20)","v":""},{"$f":"IF(P14=\"\",\"\",'検討シート（目標年度2）'!G122)","v":""},{"$f":"IF(P14=\"\",\"\",'検討シート（目標年度2）'!H122)","v":""},null,null,null,null,null,"太陽光（建物系）",{"$f":"H20","v":0},{"$f":"L20","v":""},{"$f":"P20","v":""}]
[null,null,null,null,"太陽光（土地系）",null,null,{"$f":"'検討シート（目標年度1）'!F93","v":0},null,{"$f":"'検討シート（目標年度1）'!G93","v":0},{"$f":"'検討シート（目標年度1）'!H93","v":0},{"$f":"IF(L14=\"\",\"\",'検討シート（目標年度1）'!F123)","v":""},{"$f":"IF(L14=\"\",\"\",L21/H21)","v":""},{"$f":"IF(L14=\"\",\"\",'検討シート（目標年度1）'!G123)","v":""},{"$f":"IF(L14=\"\",\"\",'検討シート（目標年度1）'!H123)","v":""},{"$f":"IF(P14=\"\",\"\",'検討シート（目標年度2）'!F123)","v":""},{"$f":"IF(P14=\"\",\"\",P21/H21)","v":""},{"$f":"IF(P14=\"\",\"\",'検討シート（目標年度2）'!G123)","v":""},{"$f":"IF(P14=\"\",\"\",'検討シート（目標年度2）'!H123)","v":""},null,null,null,null,null,"太陽光（土地系）",0,"",{"$f":"P21","v":""}]
[null,null,null,null,"陸上風力",null,null,{"$f":"'検討シート（目標年度1）'!F94","v":0},null,{"$f":"'検討シート（目標年度1）'!G94","v":0},{"$f":"'検討シート（目標年度1）'!H94","v":0},{"$f":"IF(L14=\"\",\"\",'検討シート（目標年度1）'!F124)","v":""},{"$f":"IF(L14=\"\",\"\",L22/H22)","v":""},{"$f":"IF(L14=\"\",\"\",'検討シート（目標年度1）'!G124)","v":""},{"$f":"IF(L14=\"\",\"\",'検討シート（目標年度1）'!H124)","v":""},{"$f":"IF(P14=\"\",\"\",'検討シート（目標年度2）'!F124)","v":""},{"$f":"IF(P14=\"\",\"\",P22/H22)","v":""},{"$f":"IF(P14=\"\",\"\",'検討シート（目標年度2）'!G124)","v":""},{"$f":"IF(P14=\"\",\"\",'検討シート（目標年度2）'!H124)","v":""},null,null,null,null,null,"陸上風力",0,"",""]
[null,null,null,null,"洋上風力",null,null,{"$f":"'検討シート（目標年度1）'!F95","v":0},null,{"$f":"'検討シート（目標年度1）'!G95","v":0},{"$f":"'検討シート（目標年度1）'!H95","v":0},{"$f":"IF(L14=\"\",\"\",'検討シート（目標年度1）'!F125)","v":""},{"$f":"IF(L14=\"\",\"\",L23/H23)","v":""},{"$f":"IF(L14=\"\",\"\",'検討シート（目標年度1）'!G125)","v":""},{"$f":"IF(L14=\"\",\"\",'検討シート（目標年度1）'!H125)","v":""},{"$f":"IF(P14=\"\",\"\",'検討シート（目標年度2）'!F125)","v":""},{"$f":"IF(P14=\"\",\"\",P23/H23)","v":""},{"$f":"IF(P14=\"\",\"\",'検討シート（目標年度2）'!G125)","v":""},{"$f":"IF(P14=\"\",\"\",'検討シート（目標年度2）'!H125)","v":""},null,null,null,null,null,"洋上風力",0,"",""]
[null,null,null,null,"中小水力",null,null,{"$f":"'検討シート（目標年度1）'!F96","v":0},null,{"$f":"'検討シート（目標年度1）'!G96","v":0},{"$f":"'検討シート（目標年度1）'!H96","v":0},{"$f":"IF(L14=\"\",\"\",'検討シート（目標年度1）'!F126)","v":""},{"$f":"IF(L14=\"\",\"\",L24/H24)","v":""},{"$f":"IF(L14=\"\",\"\",'検討シート（目標年度1）'!G126)","v":""},{"$f":"IF(L14=\"\",\"\",'検討シート（目標年度1）'!H126)","v":""},{"$f":"IF(P14=\"\",\"\",'検討シート（目標年度2）'!F126)","v":""},{"$f":"IF(P14=\"\",\"\",P24/H24)","v":""},{"$f":"IF(P14=\"\",\"\",'検討シート（目標年度2）'!G126)","v":""},{"$f":"IF(P14=\"\",\"\",'検討シート（目標年度2）'!H126)","v":""},null,null,null,null,null,"中小水力",0,"",""]
[null,null,null,null,"バイオマス",null,null,{"$f":"'検討シート（目標年度1）'!F97","v":0},null,{"$f":"'検討シート（目標年度1）'!G97","v":0},{"$f":"'検討シート（目標年度1）'!H97","v":0},{"$f":"IF(L14=\"\",\"\",'検討シート（目標年度1）'!F127)","v":""},{"$f":"IF(L14=\"\",\"\",L25/H25)","v":""},{"$f":"IF(L14=\"\",\"\",'検討シート（目標年度1）'!G127)","v":""},{"$f":"IF(L14=\"\",\"\",'検討シート（目標年度1）'!H127)","v":""},{"$f":"IF(P14=\"\",\"\",'検討シート（目標年度2）'!F127)","v":""},{"$f":"IF(P14=\"\",\"\",P25/H25)","v":""},{"$f":"IF(P14=\"\",\"\",'検討シート（目標年度2）'!G127)","v":""},{"$f":"IF(P14=\"\",\"\",'検討シート（目標年度2）'!H127)","v":""},null,null,null,null,null,"バイオマス",0,"",""]
[null,null,null,null,"地熱",null,null,{"$f":"'検討シート（目標年度1）'!F98","v":0},null,{"$f":"'検討シート（目標年度1）'!G98","v":0},{"$f":"'検討シート（目標年度1）'!H98","v":0},{"$f":"IF(L14=\"\",\"\",'検討シート（目標年度1）'!F128)","v":""},{"$f":"IF(L14=\"\",\"\",L26/H26)","v":""},{"$f":"IF(L14=\"\",\"\",'検討シート（目標年度1）'!G128)","v":""},{"$f":"IF(L14=\"\",\"\",'検討シート（目標年度1）'!H128)","v":""},{"$f":"IF(P14=\"\",\"\",'検討シート（目標年度2）'!F128)","v":""},{"$f":"IF(P14=\"\",\"\",P26/H26)","v":""},{"$f":"IF(P14=\"\",\"\",'検討シート（目標年度2）'!G128)","v":""},{"$f":"IF(P14=\"\",\"\",'検討シート（目標年度2）'!H128)","v":""},null,null,null,null,null,"地熱",0,"",""]
[null,null,null,null,"合計",null,null,{"$f":"SUM(H20:H26)","v":0},null,{"$f":"SUM(J20:J26)","v":0},0,{"$f":"IF(L14=\"\",\"\",SUM(L20:L26))","v":""},{"$f":"IF(L14=\"\",\"\",L27/H27)","v":""},{"$f":"IF(L14=\"\",\"\",SUM(N20:N26))","v":""},{"$f":"IF(L14=\"\",\"\",SUM(O20:O26))","v":""},{"$f":"IF(P14=\"\",\"\",SUM(P20:P26))","v":""},{"$f":"IF(P14=\"\",\"\",P27/H27)","v":""},{"$f":"IF(P14=\"\",\"\",SUM(R20:R26))","v":""},{"$f":"IF(P14=\"\",\"\",SUM(S20:S26))","v":""}]
[]
[null,null,null,"前提条件","電気使用量（MWh/年）",null,null,{"$f":"現状シート!G11","v":0},null,null,null,{"$f":"IF(L14=\"\",\"\",'検討シート（目標年度1）'!F16)","v":""},null,null,null,{"$f":"IF(P14=\"\",\"\",'検討シート（目標年度2）'!F16)","v":""}]
[]
[null,null,null,null,"現状の導入ポテンシャル（MWh/年）\n（※発電電力量：全エネルギー種）",null,null,{"$f":"現状シート!G21","v":0}]
[]
[null,null,null,null,"二酸化炭素排出量（t/年）",null,null,{"$f":"現状シート!G43*1000","v":0},null,null,null,{"$f":"IF(L14=\"\",\"\",'検討シート（目標年度1）'!F19)","v":""},null,null,null,{"$f":"IF(P14=\"\",\"\",'検討シート（目標年度2）'!F19)","v":""}]
[]
[null,null,null,"参考指標","「電気使用量」に対する\n「再エネ導入量（合計）（年間発電電力量）」の比率",null,null,{"$f":"J27/H29","v":{"$error":"#DIV/0!"}},null,null,null,{"$f":"IF(L14=\"\",\"\",N27/L29)","v":""},null,null,null,{"$f":"IF(P14=\"\",\"\",R27/P29)","v":""}]
[]
[null,null,null,null,"「現状の導入ポテンシャル」に対する\n「再エネ導入量（合計）（年間発電電力量）」の比率",null,null,{"$f":"J27/H31","v":{"$error":"#DIV/0!"}},null,null,null,{"$f":"IF(L14=\"\",\"\",N27/H31)","v":""},null,null,null,{"$f":"IF(P14=\"\",\"\",R27/H31)","v":""}]
[]
[null,null,null,null,"「二酸化炭素排出量」に対する\n「（参考）年間二酸化炭素削減量※」の比率",null,null,{"$f":"K27/H33","v":{"$error":"#DIV/0!"}},null,null,null,{"$f":"IF(L14=\"\",\"\",O27/L33)","v":""},null,null,null,{"$f":"IF(P14=\"\",\"\",S27/P33)","v":""}]
[]
[null,null,null,null,"※「（参考）年間二酸化炭素削減量」は、再生可能エネルギーによって発電された電力が区域内で全て消費されると仮定した場合に想定される二酸化炭素の削減量を示しています。"]
[]
[]
[]
[]
[]
[]
[]
[]
[]
[]
[]
[]
[]
[]
[]
[]
[]
[]
[]
[]
[]
[]
[]
[]
[null,null,null,"図３　目標検討の結果（再エネ導入量（合計）：設備容量）"]
[]
[]
[null,null,null,null,null,null,null,null,null,null,null,null,null,null,null,"まとめシート：P1"]